{"text_format":"3","workbook":"xlsx","n_sheets":4,"sheets":["記入用紙","口座振込依頼書","変更届出書","修正点"],"not_rendered":{"macros":1,"defined_names":3,"comments":1},"read":"whole","date_system":"1900"}

{"sheet":"記入用紙","index":0,"n_rows":38,"n_cols":8,"rows_kept":38,"merged":[[1,2,2,5],[1,7,2,10],[3,2,3,5],[3,7,3,10],[5,2,5,5],[5,7,5,10],[9,7,9,10],[11,2,11,5],[11,7,12,7],[11,9,12,10],[14,2,14,5],[14,9,14,10],[16,4,16,5],[16,9,16,10],[17,4,17,5],[17,9,17,10],[18,4,18,5],[18,9,18,10],[19,4,19,5],[19,9,19,10],[20,4,20,5],[20,9,20,10],[21,4,21,5],[21,9,21,10],[22,4,22,5],[22,9,22,10],[23,4,23,5],[23,9,23,10],[24,4,24,5],[24,9,24,10],[25,4,25,5],[25,9,25,10],[26,4,26,5],[26,9,26,10],[27,4,27,5],[27,9,27,10],[28,4,28,5],[28,9,28,10],[31,4,31,5],[31,9,31,10],[32,4,32,5],[32,9,32,10],[33,4,33,5],[33,9,33,10],[34,4,34,5],[34,9,34,10],[35,4,35,5],[35,9,35,10],[36,4,36,5],[36,9,36,10],[37,4,37,5],[37,9,37,10]]}
[]
[null,null,"新規　口座振込依頼書作成時",{"$nulls":4},"変更　口座振込依頼書登録時"]
[]
[null,null,"１、赤枠内全てにご記入ください。",{"$nulls":4},"１、必須以外は、変更項目のみご記入ください。"]
[]
[null,null,"２、　　　　　　　　　　　で内容の確認、",{"$nulls":4},"２、　　　　　　　　　　　　で内容の確認、"]
[]
[null,null,"３、　　　　　　　　　　　で印刷する。（３部綴り）",{"$nulls":4},"３、　　　　　　　　　　　　で印刷する。（３部綴り）"]
[]
[]
[]
[{"$nulls":7},"業者コード（必須）"]
[]
[]
[{"$nulls":7},"会社名（必須）"]
[]
[null,null,"ﾌﾘｶﾞﾅ",{"$nulls":4},"ﾌﾘｶﾞﾅ"]
[null,null,"会社名",{"$nulls":4},"会社名"]
[null,null,"郵便番号",{"$nulls":4},"郵便番号"]
[null,null,"ﾌﾘｶﾞﾅ",{"$nulls":4},"ﾌﾘｶﾞﾅ"]
[null,null,"住所",{"$nulls":4},"住所"]
[null,null,"ﾌﾘｶﾞﾅ",{"$nulls":4},"ﾌﾘｶﾞﾅ"]
[null,null,"代表者名",{"$nulls":4},"代表者名"]
[null,null,"電話番号",{"$nulls":4},"電話番号"]
[null,null,"ＦＡＸ番号",{"$nulls":4},"ＦＡＸ番号"]
[null,null,"資本金（円）",{"$nulls":4},"資本金（円）"]
[null,null,"建設業許可番号",{"$nulls":4},"建設業許可番号"]
[null,null,"許可年月日",{"$nulls":4},"許可年月日"]
[null,null,"業種名",{"$nulls":4},"業種名"]
[null,null,"銀行ｺｰﾄﾞ/銀行名",{"$nulls":4},"銀行ｺｰﾄﾞ/銀行名"]
[null,null,"支店ｺｰﾄﾞ/支店名",{"$nulls":4},"支店ｺｰﾄﾞ/支店名"]
[null,null,"預金種別",{"$nulls":4},"預金種別"]
[null,null,"口座番号",{"$nulls":4},"口座番号"]
[null,null,"口座名義（半角ｶﾅ）",{"$nulls":4},"口座名義（半角ｶﾅ）"]
[null,null,"取引現場名",{"$nulls":4},"取引現場名"]
[null,null,"取引支店名",{"$nulls":4},"取引支店名"]
[null,null,"記入担当者※必須",{"$nulls":4},"記入担当者※必須"]
[null,null,"インボイス登録番号",{"$nulls":4},"インボイス登録番号"]

{"sheet":"口座振込依頼書","index":1,"n_rows":194,"n_cols":49,"rows_kept":194,"merged":[[1,38,1,46],[2,12,2,13],[4,12,4,13],[6,27,6,32],[6,34,6,38],[8,34,8,47],[10,27,10,32],[11,15,11,23],[14,1,14,23],[14,24,14,47],[16,2,16,7],[16,8,16,22],[16,26,16,31],[16,32,16,46],[17,2,17,7],[17,8,17,22],[17,26,17,31],[17,32,17,46],[19,2,19,7],[19,8,19,22],[19,26,19,31],[19,32,19,46],[20,2,21,7],[20,9,20,22],[20,26,21,31],[20,33,20,46],[21,8,21,22],[21,32,21,46],[23,2,23,7],[23,8,23,22],[23,26,23,31],[23,32,23,46],[24,2,24,7],[24,8,24,22],[24,26,24,31],[24,32,24,46],[26,2,26,7],[26,8,26,22],[26,26,26,31],[26,32,26,46],[28,2,28,7],[28,8,28,22],[28,26,28,31],[28,32,28,46],[30,2,30,7],[30,12,30,14],[30,15,30,19],[30,20,30,22],[30,26,30,31],[30,36,30,38],[30,39,30,43],[30,44,30,46],[31,2,31,22],[31,26,31,46],[32,2,32,10],[32,11,32,22],[32,26,32,34],[32,35,32,46],[34,2,34,7],[34,12,34,14],[34,15,34,22],[34,26,34,31],[34,36,34,38],[34,39,34,46],[36,2,36,7],[36,8,36,11],[36,12,36,14],[36,15,36,22],[36,26,36,31],[36,32,36,35],[36,36,36,38],[36,39,36,46],[38,2,38,7],[38,8,38,11],[38,12,38,14],[38,15,38,22],[38,26,38,31],[38,32,38,35],[38,36,38,38],[38,39,38,46],[40,2,40,7],[40,8,40,11],[40,12,40,15],[40,16,40,22],[40,26,40,31],[40,32,40,35],[40,36,40,39],[40,40,40,46],[42,2,42,7],[42,26,42,31],[43,2,43,7],[43,26,43,31],[45,2,45,7],[45,8,45,22],[45,34,45,41],[46,34,53,41],[47,2,47,7],[47,8,47,22],[50,43,50,46],[51,43,53,46],[58,2,58,7],[58,8,58,11],[58,13,58,21],[58,40,58,43],[58,44,58,47],[59,40,61,43],[59,44,61,47],[65,38,65,46],[66,12,66,13],[68,12,68,13],[70,27,70,32],[70,34,70,38],[72,34,72,47],[74,27,74,32],[75,15,75,23],[78,1,78,23],[78,24,78,47],[80,2,80,7],[80,8,80,22],[80,26,80,31],[80,32,80,46],[81,2,81,7],[81,8,81,22],[81,26,81,31],[81,32,81,46],[83,2,83,7],[83,8,83,22],[83,26,83,31],[83,32,83,46],[84,2,85,7],[84,9,84,22],[84,26,85,31],[84,33,84,46],[85,8,85,22],[85,32,85,46],[87,2,87,7],[87,8,87,22],[87,26,87,31],[87,32,87,46],[88,2,88,7],[88,8,88,22],[88,26,88,31],[88,32,88,46],[90,2,90,7],[90,8,90,22],[90,26,90,31],[90,32,90,46],[92,2,92,7],[92,8,92,22],[92,26,92,31],[92,32,92,46],[94,2,94,7],[94,12,94,14],[94,15,94,19],[94,20,94,22],[94,26,94,31],[94,36,94,38],[94,39,94,43],[94,44,94,46],[95,2,95,22],[95,26,95,46],[96,2,96,10],[96,11,96,22],[96,26,96,34],[96,35,96,46],[98,2,98,7],[98,12,98,14],[98,15,98,22],[98,26,98,31],[98,36,98,38],[98,39,98,46],[100,2,100,7],[100,8,100,11],[100,12,100,14],[100,15,100,22],[100,26,100,31],[100,32,100,35],[100,36,100,38],[100,39,100,46],[102,2,102,7],[102,8,102,11],[102,12,102,14],[102,15,102,22],[102,26,102,31],[102,32,102,35],[102,36,102,38],[102,39,102,46],[104,2,104,7],[104,8,104,11],[104,12,104,15],[104,16,104,22],[104,26,104,31],[104,32,104,35],[104,36,104,39],[104,40,104,46],[106,2,106,7],[106,26,106,31],[107,2,107,7],[107,26,107,31],[109,2,109,7],[109,8,109,22],[109,34,109,41],[110,34,117,41],[111,2,111,7],[111,8,111,22],[114,43,114,46],[115,43,117,46],[121,23,121,24],[122,2,122,7],[122,8,122,11],[122,13,122,21],[122,23,122,28],[122,29,122,31],[122,40,122,43],[122,44,122,47],[123,23,123,24],[123,25,123,26],[123,40,125,43],[123,44,125,47],[125,2,125,7],[125,8,125,11],[126,2,126,7],[126,8,126,11],[131,38,131,46],[132,12,132,13],[134,12,134,13],[136,27,136,32],[136,34,136,38],[138,34,138,47],[140,27,140,32],[141,15,141,23],[144,1,144,23],[144,24,144,47],[146,2,146,7],[146,8,146,22],[146,26,146,31],[146,32,146,46],[147,2,147,7],[147,8,147,22],[147,26,147,31],[147,32,147,46],[149,2,149,7],[149,8,149,22],[149,26,149,31],[149,32,149,46],[150,2,151,7],[150,9,150,22],[150,26,151,31],[150,33,150,46],[151,8,151,22],[151,32,151,46],[153,2,153,7],[153,8,153,22],[153,26,153,31],[153,32,153,46],[154,2,154,7],[154,8,154,22],[154,26,154,31],[154,32,154,46],[156,2,156,7],[156,8,156,22],[156,26,156,31],[156,32,156,46],[158,2,158,7],[158,8,158,22],[158,26,158,31],[158,32,158,46],[160,2,160,7],[160,12,160,14],[160,15,160,19],[160,20,160,22],[160,26,160,31],[160,36,160,38],[160,39,160,43],[160,44,160,46],[161,2,161,22],[161,26,161,46],[162,2,162,10],[162,11,162,22],[162,26,162,34],[162,35,162,46],[164,2,164,7],[164,12,164,14],[164,15,164,22],[164,26,164,31],[164,36,164,38],[164,39,164,46],[166,2,166,7],[166,8,166,11],[166,12,166,14],[166,15,166,22],[166,26,166,31],[166,32,166,35],[166,36,166,38],[166,39,166,46],[168,2,168,7],[168,8,168,11],[168,12,168,14],[168,15,168,22],[168,26,168,31],[168,32,168,35],[168,36,168,38],[168,39,168,46],[170,2,170,7],[170,8,170,11],[170,12,170,15],[170,16,170,22],[170,26,170,31],[170,32,170,35],[170,36,170,39],[170,40,170,46],[172,2,172,7],[172,26,172,31],[173,2,173,7],[173,26,173,31],[175,2,175,7],[175,8,175,22],[175,34,175,41],[176,34,183,41],[177,2,177,7],[177,8,177,22],[180,43,180,46],[181,43,183,46],[187,23,187,24],[188,2,188,7],[188,8,188,11],[188,13,188,21],[188,23,188,28],[188,29,188,31],[188,36,188,39],[188,40,188,43],[188,44,188,47],[189,23,189,24],[189,25,189,26],[189,36,191,39],[189,40,191,43],[189,44,191,47],[191,2,191,7],[191,8,191,11],[191,13,191,28],[192,2,192,7],[192,8,192,11],[192,23,192,24],[192,25,192,26]]}
[{"$nulls":46},"1","/",3]
[{"$nulls":38},{"$f":"TODAY()","v":"2023-11-29"}]
[{"$nulls":14},"口　座　振　込　依　頼　書"]
[]
[{"$nulls":14},"変　更　届　出　書"]
[]
[null,null,"栗本建設工業株式会社　御中",{"$nulls":24},"(業者コード)",{"$nulls":6},"(会社名)"]
[]
[{"$nulls":27},{"$f":"MID(記入用紙!$F$34,1,1)","v":""},{"$f":"MID(記入用紙!$F$34,2,1)","v":""},{"$f":"MID(記入用紙!$F$34,3,1)","v":""},{"$f":"MID(記入用紙!$F$34,4,1)","v":""},{"$f":"MID(記入用紙!$F$34,5,1)","v":""},{"$f":"MID(記入用紙!$F$34,6,1)","v":""},{"$f":"MID(記入用紙!$F$34,6,1)","v":""},{"$f":"IF(記入用紙!$E$18=\"\",\"\",記入用紙!$E$18)","v":""}]
[]
[{"$nulls":27},"(インボイス登録番号）",{"$nulls":6},{"$f":"MID(記入用紙!$E$38,1,1)","v":""},{"$f":"MID(記入用紙!$E$38,2,1)","v":""},{"$f":"MID(記入用紙!$E$38,3,1)","v":""},{"$f":"MID(記入用紙!$E$38,4,1)","v":""},{"$f":"MID(記入用紙!$E$38,5,1)","v":""},{"$f":"MID(記入用紙!$E$38,6,1)","v":""},{"$f":"MID(記入用紙!$E$38,7,1)","v":""},{"$f":"MID(記入用紙!$E$38,8,1)","v":""},{"$f":"MID(記入用紙!$E$38,9,1)","v":""},{"$f":"MID(記入用紙!$E$38,10,1)","v":""},{"$f":"MID(記入用紙!$E$38,11,1)","v":""},{"$f":"MID(記入用紙!$E$38,12,1)","v":""},{"$f":"MID(記入用紙!$E$38,13,1)","v":""},{"$f":"MID(記入用紙!$E$38,14,1)","v":""}]
[]
[]
[]
[null,"現　在　登　録",{"$nulls":22},"変　　　更　　　後"]
[]
[null,null,"ﾌﾘｶﾞﾅ",{"$nulls":5},{"$f":"IF(記入用紙!$E$17=\"\",\"\",記入用紙!$E$17)","v":""},{"$nulls":17},"ﾌﾘｶﾞﾅ"]
[null,null,"会 社 名",{"$nulls":5},{"$f":"IF(記入用紙!$E$18=\"\",\"\",記入用紙!$E$18)","v":""},{"$nulls":17},"会 社 名"]
[]
[null,null,"ﾌﾘｶﾞﾅ",{"$nulls":5},{"$f":"IF(記入用紙!$E$20=\"\",\"\",記入用紙!$E$20)","v":""},{"$nulls":17},"ﾌﾘｶﾞﾅ"]
[null,null,"住    所",{"$nulls":5},"〒",{"$f":"IF(記入用紙!$E$19=\"\",\"\",記入用紙!$E$19)","v":""},{"$nulls":16},"住    所",{"$nulls":5},"〒"]
[{"$nulls":8},{"$f":"IF(記入用紙!$E$21=\"\",\"\",記入用紙!$E$21)","v":""}]
[]
[null,null,"ﾌﾘｶﾞﾅ",{"$nulls":5},{"$f":"IF(記入用紙!$E$22=\"\",\"\",記入用紙!$E$22)","v":""},{"$nulls":17},"ﾌﾘｶﾞﾅ"]
[null,null,"代 表 者",{"$nulls":5},{"$f":"IF(記入用紙!$E$23=\"\",\"\",記入用紙!$E$23)","v":""},{"$nulls":17},"代 表 者"]
[]
[null,null,"電話番号",{"$nulls":5},{"$f":"IF(記入用紙!$E$24=\"\",\"\",記入用紙!$E$24)","v":""},{"$nulls":17},"電話番号"]
[]
[null,null,"FAX番号",{"$nulls":5},{"$f":"IF(記入用紙!$E$25=\"\",\"\",記入用紙!$E$25)","v":""},{"$nulls":17},"FAX番号"]
[]
[null,null,"建設業許可番号",{"$nulls":9},"資本金",null,null,{"$f":"IF(記入用紙!$E$26=\"\",\"\",記入用紙!$E$26)","v":""},{"$nulls":4},"円",{"$nulls":5},"建設業許可番号",{"$nulls":9},"資本金",{"$nulls":7},"円"]
[null,null,{"$f":"IF(記入用紙!$E$27=\"\",\"\",記入用紙!$E$27)","v":""}]
[null,null,"建設業許可年月日",{"$nulls":8},{"$f":"IF(記入用紙!$E$28=\"\",\"\",記入用紙!$E$28)","v":""},{"$nulls":14},"建設業許可年月日"]
[]
[null,null,"業種コード",{"$nulls":9},"業種名",null,null,{"$f":"IF(記入用紙!$E$29=\"\",\"\",記入用紙!$E$29)","v":""},{"$nulls":10},"業種コード",{"$nulls":9},"業種名"]
[]
[null,null,"銀行コード",{"$nulls":5},{"$f":"IF(記入用紙!$E$30=\"\",\"\",記入用紙!$E$30)","v":""},{"$nulls":3},"銀行名",null,null,{"$f":"IF(記入用紙!$F$30=\"\",\"\",記入用紙!$F$30)","v":""},{"$nulls":10},"銀行コード",{"$nulls":9},"銀行名"]
[]
[null,null,"支店コード",{"$nulls":5},{"$f":"IF(記入用紙!$E$31=\"\",\"\",記入用紙!$E$31)","v":""},{"$nulls":3},"支店名",null,null,{"$f":"IF(記入用紙!$F$31=\"\",\"\",記入用紙!$F$31)","v":""},{"$nulls":10},"支店コード",{"$nulls":9},"支店名"]
[]
[null,null,"預金種別",{"$nulls":5},{"$f":"IF(記入用紙!$E$32=\"\",\"\",記入用紙!$E$32)","v":""},{"$nulls":3},"口座番号",{"$nulls":3},{"$f":"IF(記入用紙!$E$33=\"\",\"\",記入用紙!$E$33)","v":""},{"$nulls":9},"預金種別",{"$nulls":9},"口座番号"]
[]
[null,null,"口座名義",{"$nulls":5},{"$f":"MID(記入用紙!$E$34,1,1)","v":""},{"$f":"MID(記入用紙!$E$34,2,1)","v":""},{"$f":"MID(記入用紙!$E$34,3,1)","v":""},{"$f":"MID(記入用紙!$E$34,4,1)","v":""},{"$f":"MID(記入用紙!$E$34,5,1)","v":""},{"$f":"MID(記入用紙!$E$34,6,1)","v":""},{"$f":"MID(記入用紙!$E$34,7,1)","v":""},{"$f":"MID(記入用紙!$E$34,8,1)","v":""},{"$f":"MID(記入用紙!$E$34,9,1)","v":""},{"$f":"MID(記入用紙!$E$34,10,1)","v":""},{"$f":"MID(記入用紙!$E$34,11,1)","v":""},{"$f":"MID(記入用紙!$E$34,12,1)","v":""},{"$f":"MID(記入用紙!$E$34,13,1)","v":""},{"$f":"MID(記入用紙!$E$34,14,1)","v":""},{"$f":"MID(記入用紙!$E$34,15,1)","v":""},{"$nulls":3},"口座名義"]
[null,null,"（ｶﾀｶﾅ）",{"$nulls":5},{"$f":"MID(記入用紙!$E$34,16,1)","v":""},{"$f":"MID(記入用紙!$E$34,17,1)","v":""},{"$f":"MID(記入用紙!$E$34,18,1)","v":""},{"$f":"MID(記入用紙!$E$34,19,1)","v":""},{"$f":"MID(記入用紙!$E$34,20,1)","v":""},{"$f":"MID(記入用紙!$E$34,21,1)","v":""},{"$f":"MID(記入用紙!$E$34,22,1)","v":""},{"$f":"MID(記入用紙!$E$34,23,1)","v":""},{"$f":"MID(記入用紙!$E$34,24,1)","v":""},{"$f":"MID(記入用紙!$E$34,25,1)","v":""},{"$f":"MID(記入用紙!$E$34,26,1)","v":""},{"$f":"MID(記入用紙!$E$34,27,1)","v":""},{"$f":"MID(記入用紙!$E$34,28,1)","v":""},{"$f":"MID(記入用紙!$E$34,29,1)","v":""},{"$f":"MID(記入用紙!$E$34,30,1)","v":""},{"$nulls":3},"（ｶﾀｶﾅ）"]
[]
[null,null,"取引現場名",{"$nulls":5},{"$f":"IF(記入用紙!$E$35=\"\",\"\",記入用紙!$E$35)","v":""},{"$nulls":25},"請求書届出印"]
[]
[null,null,"取引支店名",{"$nulls":5},{"$f":"IF(記入用紙!$E$36=\"\",\"\",記入用紙!$E$36)","v":""}]
[]
[null,null,"・","本口座振込依頼書により、上記指定銀行預金口座へ振込み下されば、"]
[{"$nulls":3},"振込みと同時に当方にて代金の受領と認め別に領収証は発行いたしません。",{"$nulls":39},"記入担当者"]
[null,null,"・","尚、送金手数料は当方負担とし、御支払代金より差引きください。",{"$nulls":39},{"$f":"IF(記入用紙!$E$37=\"\",\"\",記入用紙!$E$37)","v":""}]
[null,null,"・","記載事項に変更があった場合は遅滞なく本票を差換えます。"]
[null,null,"・","上記記載事項についてすべて了承致します。"]
[]
[]
[null,"（栗本建設工業記入欄及びお願い）"]
[null,null,"①",{"$nulls":10},"②"]
[null,null,"業者コード",{"$nulls":5},"電話下４桁",{"$nulls":4},"基本契約番号",{"$nulls":26},"検印",{"$nulls":3},"担当"]
[]
[]
[null,null,"①業者コード、電話下４桁は請求書記入時に必要です。"]
[null,null,"②弊社と請負工事をされる場合、工事下請基本契約を締結して頂きます。"]
[]
[{"$nulls":46},"2","/",3]
[{"$nulls":38},{"$f":"$AM$2","v":"2023-11-29"}]
[{"$nulls":14},"口　座　振　込　依　頼　書"]
[]
[{"$nulls":14},"変　更　届　出　書"]
[]
[null,null,"栗本建設工業株式会社　御中",{"$nulls":24},"(業者コード)",{"$nulls":6},"(会社名)"]
[]
[{"$nulls":27},{"$f":"MID(記入用紙!$F$34,1,1)","v":""},{"$f":"MID(記入用紙!$F$34,2,1)","v":""},{"$f":"MID(記入用紙!$F$34,3,1)","v":""},{"$f":"MID(記入用紙!$F$34,4,1)","v":""},{"$f":"MID(記入用紙!$F$34,5,1)","v":""},{"$f":"MID(記入用紙!$F$34,6,1)","v":""},{"$f":"MID(記入用紙!$F$34,6,1)","v":""},{"$f":"IF(記入用紙!$E$18=\"\",\"\",記入用紙!$E$18)","v":""}]
[]
[{"$nulls":27},"(インボイス登録番号）",{"$nulls":6},{"$f":"MID(記入用紙!$E$38,1,1)","v":""},{"$f":"MID(記入用紙!$E$38,2,1)","v":""},{"$f":"MID(記入用紙!$E$38,3,1)","v":""},{"$f":"MID(記入用紙!$E$38,4,1)","v":""},{"$f":"MID(記入用紙!$E$38,5,1)","v":""},{"$f":"MID(記入用紙!$E$38,6,1)","v":""},{"$f":"MID(記入用紙!$E$38,7,1)","v":""},{"$f":"MID(記入用紙!$E$38,8,1)","v":""},{"$f":"MID(記入用紙!$E$38,9,1)","v":""},{"$f":"MID(記入用紙!$E$38,10,1)","v":""},{"$f":"MID(記入用紙!$E$38,11,1)","v":""},{"$f":"MID(記入用紙!$E$38,12,1)","v":""},{"$f":"MID(記入用紙!$E$38,13,1)","v":""},{"$f":"MID(記入用紙!$E$38,14,1)","v":""}]
[]
[]
[]
[null,"現　在　登　録",{"$nulls":22},"変　　　更　　　後"]
[]
[null,null,"ﾌﾘｶﾞﾅ",{"$nulls":5},{"$f":"IF(記入用紙!$E$17=\"\",\"\",記入用紙!$E$17)","v":""},{"$nulls":17},"ﾌﾘｶﾞﾅ"]
[null,null,"会 社 名",{"$nulls":5},{"$f":"IF(記入用紙!$E$18=\"\",\"\",記入用紙!$E$18)","v":""},{"$nulls":17},"会 社 名"]
[]
[null,null,"ﾌﾘｶﾞﾅ",{"$nulls":5},{"$f":"IF(記入用紙!$E$20=\"\",\"\",記入用紙!$E$20)","v":""},{"$nulls":17},"ﾌﾘｶﾞﾅ"]
[null,null,"住    所",{"$nulls":5},"〒",{"$f":"IF(記入用紙!$E$19=\"\",\"\",記入用紙!$E$19)","v":""},{"$nulls":16},"住    所",{"$nulls":5},"〒"]
[{"$nulls":8},{"$f":"IF(記入用紙!$E$21=\"\",\"\",記入用紙!$E$21)","v":""}]
[]
[null,null,"ﾌﾘｶﾞﾅ",{"$nulls":5},{"$f":"IF(記入用紙!$E$22=\"\",\"\",記入用紙!$E$22)","v":""},{"$nulls":17},"ﾌﾘｶﾞﾅ"]
[null,null,"代 表 者",{"$nulls":5},{"$f":"IF(記入用紙!$E$23=\"\",\"\",記入用紙!$E$23)","v":""},{"$nulls":17},"代 表 者"]
[]
[null,null,"電話番号",{"$nulls":5},{"$f":"IF(記入用紙!$E$24=\"\",\"\",記入用紙!$E$24)","v":""},{"$nulls":17},"電話番号"]
[]
[null,null,"FAX番号",{"$nulls":5},{"$f":"IF(記入用紙!$E$25=\"\",\"\",記入用紙!$E$25)","v":""},{"$nulls":17},"FAX番号"]
[]
[null,null,"建設業許可番号",{"$nulls":9},"資本金",null,null,{"$f":"IF(記入用紙!$E$26=\"\",\"\",記入用紙!$E$26)","v":""},{"$nulls":4},"円",{"$nulls":5},"建設業許可番号",{"$nulls":9},"資本金",{"$nulls":7},"円"]
[null,null,{"$f":"IF(記入用紙!$E$27=\"\",\"\",記入用紙!$E$27)","v":""}]
[null,null,"建設業許可年月日",{"$nulls":8},{"$f":"IF(記入用紙!$E$28=\"\",\"\",記入用紙!$E$28)","v":""},{"$nulls":14},"建設業許可年月日"]
[]
[null,null,"業種コード",{"$nulls":9},"業種名",null,null,{"$f":"IF(記入用紙!$E$29=\"\",\"\",記入用紙!$E$29)","v":""},{"$nulls":10},"業種コード",{"$nulls":9},"業種名"]
[]
[null,null,"銀行コード",{"$nulls":5},{"$f":"IF(記入用紙!$E$30=\"\",\"\",記入用紙!$E$30)","v":""},{"$nulls":3},"銀行名",null,null,{"$f":"IF(記入用紙!$F$30=\"\",\"\",記入用紙!$F$30)","v":""},{"$nulls":10},"銀行コード",{"$nulls":9},"銀行名"]
[]
[null,null,"支店コード",{"$nulls":5},{"$f":"IF(記入用紙!$E$31=\"\",\"\",記入用紙!$E$31)","v":""},{"$nulls":3},"支店名",null,null,{"$f":"IF(記入用紙!$F$31=\"\",\"\",記入用紙!$F$31)","v":""},{"$nulls":10},"支店コード",{"$nulls":9},"支店名"]
[]
[null,null,"預金種別",{"$nulls":5},{"$f":"IF(記入用紙!$E$32=\"\",\"\",記入用紙!$E$32)","v":""},{"$nulls":3},"口座番号",{"$nulls":3},{"$f":"IF(記入用紙!$E$33=\"\",\"\",記入用紙!$E$33)","v":""},{"$nulls":9},"預金種別",{"$nulls":9},"口座番号"]
[]
[null,null,"口座名義",{"$nulls":5},{"$f":"MID(記入用紙!$E$34,1,1)","v":""},{"$f":"MID(記入用紙!$E$34,2,1)","v":""},{"$f":"MID(記入用紙!$E$34,3,1)","v":""},{"$f":"MID(記入用紙!$E$34,4,1)","v":""},{"$f":"MID(記入用紙!$E$34,5,1)","v":""},{"$f":"MID(記入用紙!$E$34,6,1)","v":""},{"$f":"MID(記入用紙!$E$34,7,1)","v":""},{"$f":"MID(記入用紙!$E$34,8,1)","v":""},{"$f":"MID(記入用紙!$E$34,9,1)","v":""},{"$f":"MID(記入用紙!$E$34,10,1)","v":""},{"$f":"MID(記入用紙!$E$34,11,1)","v":""},{"$f":"MID(記入用紙!$E$34,12,1)","v":""},{"$f":"MID(記入用紙!$E$34,13,1)","v":""},{"$f":"MID(記入用紙!$E$34,14,1)","v":""},{"$f":"MID(記入用紙!$E$34,15,1)","v":""},{"$nulls":3},"口座名義"]
[null,null,"（ｶﾀｶﾅ）",{"$nulls":5},{"$f":"MID(記入用紙!$E$34,16,1)","v":""},{"$f":"MID(記入用紙!$E$34,17,1)","v":""},{"$f":"MID(記入用紙!$E$34,18,1)","v":""},{"$f":"MID(記入用紙!$E$34,19,1)","v":""},{"$f":"MID(記入用紙!$E$34,20,1)","v":""},{"$f":"MID(記入用紙!$E$34,21,1)","v":""},{"$f":"MID(記入用紙!$E$34,22,1)","v":""},{"$f":"MID(記入用紙!$E$34,23,1)","v":""},{"$f":"MID(記入用紙!$E$34,24,1)","v":""},{"$f":"MID(記入用紙!$E$34,25,1)","v":""},{"$f":"MID(記入用紙!$E$34,26,1)","v":""},{"$f":"MID(記入用紙!$E$34,27,1)","v":""},{"$f":"MID(記入用紙!$E$34,28,1)","v":""},{"$f":"MID(記入用紙!$E$34,29,1)","v":""},{"$f":"MID(記入用紙!$E$34,30,1)","v":""},{"$nulls":3},"（ｶﾀｶﾅ）"]
[]
[null,null,"取引現場名",{"$nulls":5},{"$f":"IF(記入用紙!$E$35=\"\",\"\",記入用紙!$E$35)","v":""},{"$nulls":25},"請求書届出印"]
[]
[null,null,"取引支店名",{"$nulls":5},{"$f":"IF(記入用紙!$E$36=\"\",\"\",記入用紙!$E$36)","v":""}]
[]
[null,null,"・","本口座振込依頼書により、上記指定銀行預金口座へ振込み下されば、"]
[{"$nulls":3},"振込みと同時に当方にて代金の受領と認め別に領収証は発行いたしません。",{"$nulls":39},"記入担当者"]
[null,null,"・","尚、送金手数料は当方負担とし、御支払代金より差引きください。",{"$nulls":39},{"$f":"IF(記入用紙!$E$37=\"\",\"\",記入用紙!$E$37)","v":""}]
[null,null,"・","記載事項に変更があった場合は遅滞なく本票を差換えます。"]
[null,null,"・","上記記載事項についてすべて了承致します。"]
[]
[]
[null,"（栗本建設工業記入欄）"]
[null,null,"①",{"$nulls":10},"②",{"$nulls":9},"③"]
[null,null,"業者コード",{"$nulls":5},"電話下４桁",{"$nulls":4},"基本契約番号",{"$nulls":9},"銀行コード",{"$nulls":5},"支店コード",{"$nulls":10},"検印",{"$nulls":3},"担当"]
[]
[]
[null,null,"安全協力会費",{"$nulls":5},"栗建会"]
[null,null,"/10000"]
[]
[{"$nulls":43},"（登録店控え）"]
[]
[{"$nulls":46},"3","/",3]
[{"$nulls":38},{"$f":"$AM$2","v":"2023-11-29"}]
[{"$nulls":14},"口　座　振　込　依　頼　書"]
[]
[{"$nulls":14},"変　更　届　出　書"]
[]
[null,null,"栗本建設工業株式会社　御中",{"$nulls":24},"(業者コード)",{"$nulls":6},"(会社名)"]
[]
[{"$nulls":27},{"$f":"MID(記入用紙!$F$34,1,1)","v":""},{"$f":"MID(記入用紙!$F$34,2,1)","v":""},{"$f":"MID(記入用紙!$F$34,3,1)","v":""},{"$f":"MID(記入用紙!$F$34,4,1)","v":""},{"$f":"MID(記入用紙!$F$34,5,1)","v":""},{"$f":"MID(記入用紙!$F$34,6,1)","v":""},{"$f":"MID(記入用紙!$F$34,6,1)","v":""},{"$f":"IF(記入用紙!$E$18=\"\",\"\",記入用紙!$E$18)","v":""}]
[]
[{"$nulls":27},"(インボイス登録番号）",{"$nulls":6},{"$f":"MID(記入用紙!$E$38,1,1)","v":""},{"$f":"MID(記入用紙!$E$38,2,1)","v":""},{"$f":"MID(記入用紙!$E$38,3,1)","v":""},{"$f":"MID(記入用紙!$E$38,4,1)","v":""},{"$f":"MID(記入用紙!$E$38,5,1)","v":""},{"$f":"MID(記入用紙!$E$38,6,1)","v":""},{"$f":"MID(記入用紙!$E$38,7,1)","v":""},{"$f":"MID(記入用紙!$E$38,8,1)","v":""},{"$f":"MID(記入用紙!$E$38,9,1)","v":""},{"$f":"MID(記入用紙!$E$38,10,1)","v":""},{"$f":"MID(記入用紙!$E$38,11,1)","v":""},{"$f":"MID(記入用紙!$E$38,12,1)","v":""},{"$f":"MID(記入用紙!$E$38,13,1)","v":""},{"$f":"MID(記入用紙!$E$38,14,1)","v":""}]
[]
[]
[]
[null,"現　在　登　録",{"$nulls":22},"変　　　更　　　後"]
[]
[null,null,"ﾌﾘｶﾞﾅ",{"$nulls":5},{"$f":"IF(記入用紙!$E$17=\"\",\"\",記入用紙!$E$17)","v":""},{"$nulls":17},"ﾌﾘｶﾞﾅ"]
[null,null,"会 社 名",{"$nulls":5},{"$f":"IF(記入用紙!$E$18=\"\",\"\",記入用紙!$E$18)","v":""},{"$nulls":17},"会 社 名"]
[]
[null,null,"ﾌﾘｶﾞﾅ",{"$nulls":5},{"$f":"IF(記入用紙!$E$20=\"\",\"\",記入用紙!$E$20)","v":""},{"$nulls":17},"ﾌﾘｶﾞﾅ"]
[null,null,"住    所",{"$nulls":5},"〒",{"$f":"IF(記入用紙!$E$19=\"\",\"\",記入用紙!$E$19)","v":""},{"$nulls":16},"住    所",{"$nulls":5},"〒"]
[{"$nulls":8},{"$f":"IF(記入用紙!$E$21=\"\",\"\",記入用紙!$E$21)","v":""}]
[]
[null,null,"ﾌﾘｶﾞﾅ",{"$nulls":5},{"$f":"IF(記入用紙!$E$22=\"\",\"\",記入用紙!$E$22)","v":""},{"$nulls":17},"ﾌﾘｶﾞﾅ"]
[null,null,"代 表 者",{"$nulls":5},{"$f":"IF(記入用紙!$E$23=\"\",\"\",記入用紙!$E$23)","v":""},{"$nulls":17},"代 表 者"]
[]
[null,null,"電話番号",{"$nulls":5},{"$f":"IF(記入用紙!$E$24=\"\",\"\",記入用紙!$E$24)","v":""},{"$nulls":17},"電話番号"]
[]
[null,null,"FAX番号",{"$nulls":5},{"$f":"IF(記入用紙!$E$25=\"\",\"\",記入用紙!$E$25)","v":""},{"$nulls":17},"FAX番号"]
[]
[null,null,"建設業許可番号",{"$nulls":9},"資本金",null,null,{"$f":"IF(記入用紙!$E$26=\"\",\"\",記入用紙!$E$26)","v":""},{"$nulls":4},"円",{"$nulls":5},"建設業許可番号",{"$nulls":9},"資本金",{"$nulls":7},"円"]
[null,null,{"$f":"IF(記入用紙!$E$27=\"\",\"\",記入用紙!$E$27)","v":""}]
[null,null,"建設業許可年月日",{"$nulls":8},{"$f":"IF(記入用紙!$E$28=\"\",\"\",記入用紙!$E$28)","v":""},{"$nulls":14},"建設業許可年月日"]
[]
[null,null,"業種コード",{"$nulls":9},"業種名",null,null,{"$f":"IF(記入用紙!$E$29=\"\",\"\",記入用紙!$E$29)","v":""},{"$nulls":10},"業種コード",{"$nulls":9},"業種名"]
[]
[null,null,"銀行コード",{"$nulls":5},{"$f":"IF(記入用紙!$E$30=\"\",\"\",記入用紙!$E$30)","v":""},{"$nulls":3},"銀行名",null,null,{"$f":"IF(記入用紙!$F$30=\"\",\"\",記入用紙!$F$30)","v":""},{"$nulls":10},"銀行コード",{"$nulls":9},"銀行名"]
[]
[null,null,"支店コード",{"$nulls":5},{"$f":"IF(記入用紙!$E$31=\"\",\"\",記入用紙!$E$31)","v":""},{"$nulls":3},"支店名",null,null,{"$f":"IF(記入用紙!$F$31=\"\",\"\",記入用紙!$F$31)","v":""},{"$nulls":10},"支店コード",{"$nulls":9},"支店名"]
[]
[null,null,"預金種別",{"$nulls":5},{"$f":"IF(記入用紙!$E$32=\"\",\"\",記入用紙!$E$32)","v":""},{"$nulls":3},"口座番号",{"$nulls":3},{"$f":"IF(記入用紙!$E$33=\"\",\"\",記入用紙!$E$33)","v":""},{"$nulls":9},"預金種別",{"$nulls":9},"口座番号"]
[]
[null,null,"口座名義",{"$nulls":5},{"$f":"MID(記入用紙!$E$34,1,1)","v":""},{"$f":"MID(記入用紙!$E$34,2,1)","v":""},{"$f":"MID(記入用紙!$E$34,3,1)","v":""},{"$f":"MID(記入用紙!$E$34,4,1)","v":""},{"$f":"MID(記入用紙!$E$34,5,1)","v":""},{"$f":"MID(記入用紙!$E$34,6,1)","v":""},{"$f":"MID(記入用紙!$E$34,7,1)","v":""},{"$f":"MID(記入用紙!$E$34,8,1)","v":""},{"$f":"MID(記入用紙!$E$34,9,1)","v":""},{"$f":"MID(記入用紙!$E$34,10,1)","v":""},{"$f":"MID(記入用紙!$E$34,11,1)","v":""},{"$f":"MID(記入用紙!$E$34,12,1)","v":""},{"$f":"MID(記入用紙!$E$34,13,1)","v":""},{"$f":"MID(記入用紙!$E$34,14,1)","v":""},{"$f":"MID(記入用紙!$E$34,15,1)","v":""},{"$nulls":3},"口座名義"]
[null,null,"（ｶﾀｶﾅ）",{"$nulls":5},{"$f":"MID(記入用紙!$E$34,16,1)","v":""},{"$f":"MID(記入用紙!$E$34,17,1)","v":""},{"$f":"MID(記入用紙!$E$34,18,1)","v":""},{"$f":"MID(記入用紙!$E$34,19,1)","v":""},{"$f":"MID(記入用紙!$E$34,20,1)","v":""},{"$f":"MID(記入用紙!$E$34,21,1)","v":""},{"$f":"MID(記入用紙!$E$34,22,1)","v":""},{"$f":"MID(記入用紙!$E$34,23,1)","v":""},{"$f":"MID(記入用紙!$E$34,24,1)","v":""},{"$f":"MID(記入用紙!$E$34,25,1)","v":""},{"$f":"MID(記入用紙!$E$34,26,1)","v":""},{"$f":"MID(記入用紙!$E$34,27,1)","v":""},{"$f":"MID(記入用紙!$E$34,28,1)","v":""},{"$f":"MID(記入用紙!$E$34,29,1)","v":""},{"$f":"MID(記入用紙!$E$34,30,1)","v":""},{"$nulls":3},"（ｶﾀｶﾅ）"]
[]
[null,null,"取引現場名",{"$nulls":5},{"$f":"IF(記入用紙!$E$35=\"\",\"\",記入用紙!$E$35)","v":""},{"$nulls":25},"請求書届出印"]
[]
[null,null,"取引支店名",{"$nulls":5},{"$f":"IF(記入用紙!$E$36=\"\",\"\",記入用紙!$E$36)","v":""}]
[]
[null,null,"・","本口座振込依頼書により、上記指定銀行預金口座へ振込み下されば、"]
[{"$nulls":3},"振込みと同時に当方にて代金の受領と認め別に領収証は発行いたしません。",{"$nulls":39},"記入担当者"]
[null,null,"・","尚、送金手数料は当方負担とし、御支払代金より差引きください。",{"$nulls":39},{"$f":"IF(記入用紙!$E$37=\"\",\"\",記入用紙!$E$37)","v":""}]
[null,null,"・","記載事項に変更があった場合は遅滞なく本票を差換えます。"]
[null,null,"・","上記記載事項についてすべて了承致します。"]
[]
[]
[null,"（栗本建設工業記入欄）"]
[null,null,"①",{"$nulls":10},"②",{"$nulls":9},"③"]
[null,null,"業者コード",{"$nulls":5},"電話下４桁",{"$nulls":4},"基本契約番号",{"$nulls":9},"銀行コード",{"$nulls":5},"支店コード",{"$nulls":6},"経理",{"$nulls":3},"検印",{"$nulls":3},"担当"]
[]
[]
[null,null,"安全協力会費",{"$nulls":5},"栗建会",{"$nulls":4},"インボイス登録番号"]
[null,null,"/10000",{"$nulls":10},{"$f":"MID(記入用紙!$E$38,1,1)","v":""},{"$f":"MID(記入用紙!$E$38,2,1)","v":""},{"$f":"MID(記入用紙!$E$38,3,1)","v":""},{"$f":"MID(記入用紙!$E$38,4,1)","v":""},{"$f":"MID(記入用紙!$E$38,5,1)","v":""},{"$f":"MID(記入用紙!$E$38,6,1)","v":""},{"$f":"MID(記入用紙!$E$38,7,1)","v":""},{"$f":"MID(記入用紙!$E$38,8,1)","v":""},{"$f":"MID(記入用紙!$E$38,9,1)","v":""},{"$f":"MID(記入用紙!$E$38,10,1)","v":""},{"$f":"MID(記入用紙!$E$38,11,1)","v":""},null,{"$f":"MID(記入用紙!$E$38,12,1)","v":""},null,{"$f":"MID(記入用紙!$E$38,13,1)","v":""},{"$f":"MID(記入用紙!$E$38,14,1)","v":""}]
[{"$nulls":44},"（本社控え）"]

{"sheet":"変更届出書","index":2,"n_rows":195,"n_cols":49,"rows_kept":195,"merged":[[1,38,1,46],[2,12,2,13],[4,12,4,13],[6,27,6,32],[6,34,6,38],[8,34,8,47],[10,27,10,32],[14,1,14,23],[14,24,14,47],[16,2,16,7],[16,8,16,22],[16,26,16,31],[16,32,16,46],[17,2,17,7],[17,8,17,22],[17,26,17,31],[17,32,17,46],[19,2,19,7],[19,8,19,22],[19,26,19,31],[19,32,19,46],[20,2,21,7],[20,9,20,22],[20,26,21,31],[20,33,20,46],[21,8,21,22],[21,32,21,46],[23,2,23,7],[23,8,23,22],[23,26,23,31],[23,32,23,46],[24,2,24,7],[24,8,24,22],[24,26,24,31],[24,32,24,46],[26,2,26,7],[26,8,26,22],[26,26,26,31],[26,32,26,46],[28,2,28,7],[28,8,28,22],[28,26,28,31],[28,32,28,46],[30,2,30,7],[30,12,30,14],[30,15,30,19],[30,20,30,22],[30,26,30,31],[30,36,30,38],[30,39,30,43],[30,44,30,46],[31,2,31,22],[31,26,31,46],[32,2,32,10],[32,11,32,22],[32,26,32,34],[32,35,32,46],[34,2,34,7],[34,12,34,14],[34,15,34,22],[34,26,34,31],[34,36,34,38],[34,39,34,46],[36,2,36,7],[36,8,36,11],[36,12,36,14],[36,15,36,22],[36,26,36,31],[36,32,36,35],[36,36,36,38],[36,39,36,46],[38,2,38,7],[38,8,38,11],[38,12,38,14],[38,15,38,22],[38,26,38,31],[38,32,38,35],[38,36,38,38],[38,39,38,46],[40,2,40,7],[40,8,40,11],[40,12,40,15],[40,16,40,22],[40,26,40,31],[40,32,40,35],[40,36,40,39],[40,40,40,46],[42,2,42,7],[42,26,42,31],[43,2,43,7],[43,26,43,31],[45,2,45,7],[45,8,45,22],[45,34,45,41],[46,34,53,41],[47,2,47,7],[47,8,47,22],[50,43,50,46],[51,43,53,46],[58,2,58,7],[58,8,58,11],[58,13,58,21],[58,40,58,43],[58,44,58,47],[59,40,61,43],[59,44,61,47],[65,38,65,46],[66,12,66,13],[68,12,68,13],[70,27,70,32],[70,34,70,38],[72,34,72,47],[74,27,74,32],[75,15,75,23],[78,1,78,23],[78,24,78,47],[80,2,80,7],[80,8,80,22],[80,26,80,31],[80,32,80,46],[81,2,81,7],[81,8,81,22],[81,26,81,31],[81,32,81,46],[83,2,83,7],[83,8,83,22],[83,26,83,31],[83,32,83,46],[84,2,85,7],[84,9,84,22],[84,26,85,31],[84,33,84,46],[85,8,85,22],[85,32,85,46],[87,2,87,7],[87,8,87,22],[87,26,87,31],[87,32,87,46],[88,2,88,7],[88,8,88,22],[88,26,88,31],[88,32,88,46],[90,2,90,7],[90,8,90,22],[90,26,90,31],[90,32,90,46],[92,2,92,7],[92,8,92,22],[92,26,92,31],[92,32,92,46],[94,2,94,7],[94,12,94,14],[94,15,94,19],[94,20,94,22],[94,26,94,31],[94,36,94,38],[94,39,94,43],[94,44,94,46],[95,2,95,22],[95,26,95,46],[96,2,96,10],[96,11,96,22],[96,26,96,34],[96,35,96,46],[98,2,98,7],[98,12,98,14],[98,15,98,22],[98,26,98,31],[98,36,98,38],[98,39,98,46],[100,2,100,7],[100,8,100,11],[100,12,100,14],[100,15,100,22],[100,26,100,31],[100,32,100,35],[100,36,100,38],[100,39,100,46],[102,2,102,7],[102,8,102,11],[102,12,102,14],[102,15,102,22],[102,26,102,31],[102,32,102,35],[102,36,102,38],[102,39,102,46],[104,2,104,7],[104,8,104,11],[104,12,104,15],[104,16,104,22],[104,26,104,31],[104,32,104,35],[104,36,104,39],[104,40,104,46],[106,2,106,7],[106,26,106,31],[107,2,107,7],[107,26,107,31],[109,2,109,7],[109,8,109,22],[109,34,109,41],[110,34,117,41],[111,2,111,7],[111,8,111,22],[114,43,114,46],[115,43,117,46],[121,23,121,24],[122,2,122,7],[122,8,122,11],[122,13,122,21],[122,23,122,28],[122,29,122,31],[122,40,122,43],[122,44,122,47],[123,23,123,24],[123,25,123,26],[123,40,125,43],[123,44,125,47],[125,2,125,7],[125,8,125,11],[126,2,126,7],[126,8,126,11],[131,38,131,46],[132,12,132,13],[134,12,134,13],[136,27,136,32],[136,34,136,38],[138,34,138,47],[140,27,140,32],[141,15,141,23],[144,1,144,23],[144,24,144,47],[146,2,146,7],[146,8,146,22],[146,26,146,31],[146,32,146,46],[147,2,147,7],[147,8,147,22],[147,26,147,31],[147,32,147,46],[149,2,149,7],[149,8,149,22],[149,26,149,31],[149,32,149,46],[150,2,151,7],[150,9,150,22],[150,26,151,31],[150,33,150,46],[151,8,151,22],[151,32,151,46],[153,2,153,7],[153,8,153,22],[153,26,153,31],[153,32,153,46],[154,2,154,7],[154,8,154,22],[154,26,154,31],[154,32,154,46],[156,2,156,7],[156,8,156,22],[156,26,156,31],[156,32,156,46],[158,2,158,7],[158,8,158,22],[158,26,158,31],[158,32,158,46],[160,2,160,7],[160,12,160,14],[160,15,160,19],[160,20,160,22],[160,26,160,31],[160,36,160,38],[160,39,160,43],[160,44,160,46],[161,2,161,22],[161,26,161,46],[162,2,162,10],[162,11,162,22],[162,26,162,34],[162,35,162,46],[164,2,164,7],[164,12,164,14],[164,15,164,22],[164,26,164,31],[164,36,164,38],[164,39,164,46],[166,2,166,7],[166,8,166,11],[166,12,166,14],[166,15,166,22],[166,26,166,31],[166,32,166,35],[166,36,166,38],[166,39,166,46],[168,2,168,7],[168,8,168,11],[168,12,168,14],[168,15,168,22],[168,26,168,31],[168,32,168,35],[168,36,168,38],[168,39,168,46],[170,2,170,7],[170,8,170,11],[170,12,170,15],[170,16,170,22],[170,26,170,31],[170,32,170,35],[170,36,170,39],[170,40,170,46],[172,2,172,7],[172,26,172,31],[173,2,173,7],[173,26,173,31],[175,2,175,7],[175,8,175,22],[175,34,175,41],[176,34,183,41],[177,2,177,7],[177,8,177,22],[180,43,180,46],[181,43,183,46],[187,23,187,24],[188,2,188,7],[188,8,188,11],[188,13,188,21],[188,23,188,28],[188,29,188,31],[188,36,188,39],[188,40,188,43],[188,44,188,47],[189,23,189,24],[189,25,189,26],[189,36,191,39],[189,40,191,43],[189,44,191,47],[191,2,191,7],[191,8,191,11],[191,13,191,28],[192,2,192,7],[192,8,192,11],[192,23,192,24],[192,25,192,26]]}
[{"$nulls":46},"1","/",3]
[{"$nulls":38},{"$f":"TODAY()","v":"2023-11-29"}]
[{"$nulls":14},"口　座　振　込　依　頼　書"]
[]
[{"$nulls":14},"変　更　届　出　書"]
[]
[null,null,"栗本建設工業株式会社　御中",{"$nulls":24},"(業者コード)",{"$nulls":6},"(会社名)"]
[]
[{"$nulls":27},{"$f":"MID(記入用紙!$J$12,1,1)","v":""},{"$f":"MID(記入用紙!$J$12,2,1)","v":""},{"$f":"MID(記入用紙!$J$12,3,1)","v":""},{"$f":"MID(記入用紙!$J$12,4,1)","v":""},{"$f":"MID(記入用紙!$J$12,5,1)","v":""},{"$f":"MID(記入用紙!$J$12,6,1)","v":""},{"$f":"MID(記入用紙!$F$34,6,1)","v":""},{"$f":"IF(記入用紙!$J$18=\"\",\"\",記入用紙!$J$18)","v":""}]
[]
[{"$nulls":27},"(インボイス登録番号）",{"$nulls":6},{"$f":"MID(記入用紙!$J$38,1,1)","v":""},{"$f":"MID(記入用紙!$J$38,2,1)","v":""},{"$f":"MID(記入用紙!$J$38,3,1)","v":""},{"$f":"MID(記入用紙!$J$38,4,1)","v":""},{"$f":"MID(記入用紙!$J$38,5,1)","v":""},{"$f":"MID(記入用紙!$J$38,6,1)","v":""},{"$f":"MID(記入用紙!$J$38,7,1)","v":""},{"$f":"MID(記入用紙!$J$38,8,1)","v":""},{"$f":"MID(記入用紙!$J$38,9,1)","v":""},{"$f":"MID(記入用紙!$J$38,10,1)","v":""},{"$f":"MID(記入用紙!$J$38,11,1)","v":""},{"$f":"MID(記入用紙!$J$38,12,1)","v":""},{"$f":"MID(記入用紙!$J$38,13,1)","v":""},{"$f":"MID(記入用紙!$J$38,14,1)","v":""}]
[]
[]
[]
[null,"現　在　登　録",{"$nulls":22},"変　　　更　　　後"]
[]
[null,null,"ﾌﾘｶﾞﾅ",{"$nulls":5},{"$f":"IF(記入用紙!$E$17=\"\",\"\",記入用紙!$E$17)","v":""},{"$nulls":17},"ﾌﾘｶﾞﾅ",{"$nulls":5},{"$f":"IF(記入用紙!$J$17=\"\",\"\",記入用紙!$J$17)","v":""}]
[null,null,"会 社 名",{"$nulls":5},{"$f":"IF(記入用紙!$E$18=\"\",\"\",記入用紙!$E$18)","v":""},{"$nulls":17},"会 社 名",{"$nulls":5},{"$f":"IF(記入用紙!$J$18=\"\",\"\",記入用紙!$J$18)","v":""}]
[]
[null,null,"ﾌﾘｶﾞﾅ",{"$nulls":5},{"$f":"IF(記入用紙!$E$20=\"\",\"\",記入用紙!$E$20)","v":""},{"$nulls":17},"ﾌﾘｶﾞﾅ",{"$nulls":5},{"$f":"IF(記入用紙!$J$20=\"\",\"\",記入用紙!$J$20)","v":""}]
[null,null,"住    所",{"$nulls":5},"〒",{"$f":"IF(記入用紙!$E$19=\"\",\"\",記入用紙!$E$19)","v":""},{"$nulls":16},"住    所",{"$nulls":5},"〒",{"$f":"IF(記入用紙!$J$19=\"\",\"\",記入用紙!$J$19)","v":""}]
[{"$nulls":8},{"$f":"IF(記入用紙!$E$21=\"\",\"\",記入用紙!$E$21)","v":""},{"$nulls":23},{"$f":"IF(記入用紙!$J$21=\"\",\"\",記入用紙!$J$21)","v":""}]
[]
[null,null,"ﾌﾘｶﾞﾅ",{"$nulls":5},{"$f":"IF(記入用紙!$E$22=\"\",\"\",記入用紙!$E$22)","v":""},{"$nulls":17},"ﾌﾘｶﾞﾅ",{"$nulls":5},{"$f":"IF(記入用紙!$J$22=\"\",\"\",記入用紙!$J$22)","v":""}]
[null,null,"代 表 者",{"$nulls":5},{"$f":"IF(記入用紙!$E$23=\"\",\"\",記入用紙!$E$23)","v":""},{"$nulls":17},"代 表 者",{"$nulls":5},{"$f":"IF(記入用紙!$J$23=\"\",\"\",記入用紙!$J$23)","v":""}]
[]
[null,null,"電話番号",{"$nulls":5},{"$f":"IF(記入用紙!$E$24=\"\",\"\",記入用紙!$E$24)","v":""},{"$nulls":17},"電話番号",{"$nulls":5},{"$f":"IF(記入用紙!$J$24=\"\",\"\",記入用紙!$J$24)","v":""}]
[]
[null,null,"FAX番号",{"$nulls":5},{"$f":"IF(記入用紙!$E$25=\"\",\"\",記入用紙!$E$25)","v":""},{"$nulls":17},"FAX番号",{"$nulls":5},{"$f":"IF(記入用紙!$J$25=\"\",\"\",記入用紙!$J$25)","v":""}]
[]
[null,null,"建設業許可番号",{"$nulls":9},"資本金",null,null,{"$f":"IF(記入用紙!$E$26=\"\",\"\",記入用紙!$E$26)","v":""},{"$nulls":4},"円",{"$nulls":5},"建設業許可番号",{"$nulls":9},"資本金",null,null,{"$f":"IF(記入用紙!$J$26=\"\",\"\",記入用紙!$J$26)","v":""},{"$nulls":4},"円"]
[null,null,{"$f":"IF(記入用紙!$E$27=\"\",\"\",記入用紙!$E$27)","v":""},{"$nulls":23},{"$f":"IF(記入用紙!$J$27=\"\",\"\",記入用紙!$J$27)","v":""}]
[null,null,"建設業許可年月日",{"$nulls":8},{"$f":"IF(記入用紙!$E$28=\"\",\"\",記入用紙!$E$28)","v":""},{"$nulls":14},"建設業許可年月日",{"$nulls":8},{"$f":"IF(記入用紙!$J$28=\"\",\"\",記入用紙!$J$28)","v":""}]
[]
[null,null,"業種コード",{"$nulls":9},"業種名",null,null,{"$f":"IF(記入用紙!$E$29=\"\",\"\",記入用紙!$E$29)","v":""},{"$nulls":10},"業種コード",{"$nulls":9},"業種名",null,null,{"$f":"IF(記入用紙!$J$29=\"\",\"\",記入用紙!J$29)","v":""}]
[]
[null,null,"銀行コード",{"$nulls":5},{"$f":"IF(記入用紙!$E$30=\"\",\"\",記入用紙!$E$30)","v":""},{"$nulls":3},"銀行名",null,null,{"$f":"IF(記入用紙!$F$30=\"\",\"\",記入用紙!$F$30)","v":""},{"$nulls":10},"銀行コード",{"$nulls":5},{"$f":"IF(記入用紙!$J$30=\"\",\"\",記入用紙!$J$30)","v":""},{"$nulls":3},"銀行名",null,null,{"$f":"IF(記入用紙!$K$30=\"\",\"\",記入用紙!$K$30)","v":""}]
[]
[null,null,"支店コード",{"$nulls":5},{"$f":"IF(記入用紙!$E$31=\"\",\"\",記入用紙!$E$31)","v":""},{"$nulls":3},"支店名",null,null,{"$f":"IF(記入用紙!$F$31=\"\",\"\",記入用紙!$F$31)","v":""},{"$nulls":10},"支店コード",{"$nulls":5},{"$f":"IF(記入用紙!$J$31=\"\",\"\",記入用紙!$J$31)","v":""},{"$nulls":3},"支店名",null,null,{"$f":"IF(記入用紙!$K$31=\"\",\"\",記入用紙!$K$31)","v":""}]
[]
[null,null,"預金種別",{"$nulls":5},{"$f":"IF(記入用紙!$E$32=\"\",\"\",記入用紙!$E$32)","v":""},{"$nulls":3},"口座番号",{"$nulls":3},{"$f":"IF(記入用紙!$E$33=\"\",\"\",記入用紙!$E$33)","v":""},{"$nulls":9},"預金種別",{"$nulls":5},{"$f":"IF(記入用紙!$J$32=\"\",\"\",記入用紙!$J$32)","v":""},{"$nulls":3},"口座番号",{"$nulls":3},{"$f":"IF(記入用紙!$J$33=\"\",\"\",記入用紙!$J$33)","v":""}]
[]
[null,null,"口座名義",{"$nulls":5},{"$f":"MID(記入用紙!$E$34,1,1)","v":""},{"$f":"MID(記入用紙!$E$34,2,1)","v":""},{"$f":"MID(記入用紙!$E$34,3,1)","v":""},{"$f":"MID(記入用紙!$E$34,4,1)","v":""},{"$f":"MID(記入用紙!$E$34,5,1)","v":""},{"$f":"MID(記入用紙!$E$34,6,1)","v":""},{"$f":"MID(記入用紙!$E$34,7,1)","v":""},{"$f":"MID(記入用紙!$E$34,8,1)","v":""},{"$f":"MID(記入用紙!$E$34,9,1)","v":""},{"$f":"MID(記入用紙!$E$34,10,1)","v":""},{"$f":"MID(記入用紙!$E$34,11,1)","v":""},{"$f":"MID(記入用紙!$E$34,12,1)","v":""},{"$f":"MID(記入用紙!$E$34,13,1)","v":""},{"$f":"MID(記入用紙!$E$34,14,1)","v":""},{"$f":"MID(記入用紙!$E$34,15,1)","v":""},{"$nulls":3},"口座名義",{"$nulls":5},{"$f":"MID(記入用紙!$J$34,1,1)","v":""},{"$f":"MID(記入用紙!$J$34,2,1)","v":""},{"$f":"MID(記入用紙!$J$34,3,1)","v":""},{"$f":"MID(記入用紙!$J$34,4,1)","v":""},{"$f":"MID(記入用紙!$J$34,5,1)","v":""},{"$f":"MID(記入用紙!$J$34,6,1)","v":""},{"$f":"MID(記入用紙!$J$34,7,1)","v":""},{"$f":"MID(記入用紙!$J$34,8,1)","v":""},{"$f":"MID(記入用紙!$J$34,9,1)","v":""},{"$f":"MID(記入用紙!$J$34,10,1)","v":""},{"$f":"MID(記入用紙!$J$34,11,1)","v":""},{"$f":"MID(記入用紙!$J$34,12,1)","v":""},{"$f":"MID(記入用紙!$J$34,13,1)","v":""},{"$f":"MID(記入用紙!$J$34,14,1)","v":""},{"$f":"MID(記入用紙!$J$34,15,1)","v":""}]
[null,null,"（ｶﾀｶﾅ）",{"$nulls":5},{"$f":"MID(記入用紙!$E$34,16,1)","v":""},{"$f":"MID(記入用紙!$E$34,17,1)","v":""},{"$f":"MID(記入用紙!$E$34,18,1)","v":""},{"$f":"MID(記入用紙!$E$34,19,1)","v":""},{"$f":"MID(記入用紙!$E$34,20,1)","v":""},{"$f":"MID(記入用紙!$E$34,21,1)","v":""},{"$f":"MID(記入用紙!$E$34,22,1)","v":""},{"$f":"MID(記入用紙!$E$34,23,1)","v":""},{"$f":"MID(記入用紙!$E$34,24,1)","v":""},{"$f":"MID(記入用紙!$E$34,25,1)","v":""},{"$f":"MID(記入用紙!$E$34,26,1)","v":""},{"$f":"MID(記入用紙!$E$34,27,1)","v":""},{"$f":"MID(記入用紙!$E$34,28,1)","v":""},{"$f":"MID(記入用紙!$E$34,29,1)","v":""},{"$f":"MID(記入用紙!$E$34,30,1)","v":""},{"$nulls":3},"（ｶﾀｶﾅ）",{"$nulls":5},{"$f":"MID(記入用紙!$J$34,16,1)","v":""},{"$f":"MID(記入用紙!$J$34,17,1)","v":""},{"$f":"MID(記入用紙!$J$34,18,1)","v":""},{"$f":"MID(記入用紙!$J$34,19,1)","v":""},{"$f":"MID(記入用紙!$J$34,20,1)","v":""},{"$f":"MID(記入用紙!$J$34,21,1)","v":""},{"$f":"MID(記入用紙!$J$34,22,1)","v":""},{"$f":"MID(記入用紙!$J$34,23,1)","v":""},{"$f":"MID(記入用紙!$J$34,24,1)","v":""},{"$f":"MID(記入用紙!$J$34,25,1)","v":""},{"$f":"MID(記入用紙!$J$34,26,1)","v":""},{"$f":"MID(記入用紙!$J$34,27,1)","v":""},{"$f":"MID(記入用紙!$J$34,28,1)","v":""},{"$f":"MID(記入用紙!$J$34,29,1)","v":""},{"$f":"MID(記入用紙!$J$34,30,1)","v":""}]
[]
[null,null,"取引現場名",{"$nulls":5},{"$f":"IF(記入用紙!$E$35=\"\",\"\",記入用紙!$E$35)","v":""},{"$nulls":25},"請求書届出印"]
[]
[null,null,"取引支店名",{"$nulls":5},{"$f":"IF(記入用紙!$E$36=\"\",\"\",記入用紙!$E$36)","v":""}]
[]
[null,null,"・","本口座振込依頼書により、上記指定銀行預金口座へ振込み下されば、"]
[{"$nulls":3},"振込みと同時に当方にて代金の受領と認め別に領収証は発行いたしません。",{"$nulls":39},"記入担当者"]
[null,null,"・","尚、送金手数料は当方負担とし、御支払代金より差引きください。",{"$nulls":39},{"$f":"IF(記入用紙!$J$37=\"\",\"\",記入用紙!$J$37)","v":""}]
[null,null,"・","記載事項に変更があった場合は遅滞なく本票を差換えます。"]
[null,null,"・","上記記載事項についてすべて了承致します。"]
[]
[]
[null,"（栗本建設工業記入欄及びお願い）"]
[null,null,"①",{"$nulls":10},"②"]
[null,null,"業者コード",{"$nulls":5},"電話下４桁",{"$nulls":4},"基本契約番号",{"$nulls":26},"検印",{"$nulls":3},"担当"]
[]
[]
[null,null,"①業者コード、電話下４桁は請求書記入時に必要です。"]
[null,null,"②弊社と請負工事をされる場合、工事下請基本契約を締結して頂きます。"]
[]
[{"$nulls":46},"2","/",3]
[{"$nulls":38},{"$f":"$AM$2","v":"2023-11-29"}]
[{"$nulls":14},"口　座　振　込　依　頼　書"]
[]
[{"$nulls":14},"変　更　届　出　書"]
[]
[null,null,"栗本建設工業株式会社　御中",{"$nulls":24},"(業者コード)",{"$nulls":6},"(会社名)"]
[]
[{"$nulls":27},{"$f":"MID(記入用紙!$J$12,1,1)","v":""},{"$f":"MID(記入用紙!$J$12,2,1)","v":""},{"$f":"MID(記入用紙!$J$12,3,1)","v":""},{"$f":"MID(記入用紙!$J$12,4,1)","v":""},{"$f":"MID(記入用紙!$J$12,5,1)","v":""},{"$f":"MID(記入用紙!$J$12,6,1)","v":""},{"$f":"MID(記入用紙!$F$34,6,1)","v":""},{"$f":"IF(記入用紙!$J$18=\"\",\"\",記入用紙!$J$18)","v":""}]
[]
[{"$nulls":27},"(インボイス登録番号）",{"$nulls":6},{"$f":"MID(記入用紙!$J$38,1,1)","v":""},{"$f":"MID(記入用紙!$J$38,2,1)","v":""},{"$f":"MID(記入用紙!$J$38,3,1)","v":""},{"$f":"MID(記入用紙!$J$38,4,1)","v":""},{"$f":"MID(記入用紙!$J$38,5,1)","v":""},{"$f":"MID(記入用紙!$J$38,6,1)","v":""},{"$f":"MID(記入用紙!$J$38,7,1)","v":""},{"$f":"MID(記入用紙!$J$38,8,1)","v":""},{"$f":"MID(記入用紙!$J$38,9,1)","v":""},{"$f":"MID(記入用紙!$J$38,10,1)","v":""},{"$f":"MID(記入用紙!$J$38,11,1)","v":""},{"$f":"MID(記入用紙!$J$38,12,1)","v":""},{"$f":"MID(記入用紙!$J$38,13,1)","v":""},{"$f":"MID(記入用紙!$J$38,14,1)","v":""}]
[]
[]
[]
[null,"現　在　登　録",{"$nulls":22},"変　　　更　　　後"]
[]
[null,null,"ﾌﾘｶﾞﾅ",{"$nulls":5},{"$f":"IF(記入用紙!$E$17=\"\",\"\",記入用紙!$E$17)","v":""},{"$nulls":17},"ﾌﾘｶﾞﾅ",{"$nulls":5},{"$f":"IF(記入用紙!$J$17=\"\",\"\",記入用紙!$J$17)","v":""}]
[null,null,"会 社 名",{"$nulls":5},{"$f":"IF(記入用紙!$E$18=\"\",\"\",記入用紙!$E$18)","v":""},{"$nulls":17},"会 社 名",{"$nulls":5},{"$f":"IF(記入用紙!$J$18=\"\",\"\",記入用紙!$J$18)","v":""}]
[]
[null,null,"ﾌﾘｶﾞﾅ",{"$nulls":5},{"$f":"IF(記入用紙!$E$20=\"\",\"\",記入用紙!$E$20)","v":""},{"$nulls":17},"ﾌﾘｶﾞﾅ",{"$nulls":5},{"$f":"IF(記入用紙!$J$20=\"\",\"\",記入用紙!$J$20)","v":""}]
[null,null,"住    所",{"$nulls":5},"〒",{"$f":"IF(記入用紙!$E$19=\"\",\"\",記入用紙!$E$19)","v":""},{"$nulls":16},"住    所",{"$nulls":5},"〒",{"$f":"IF(記入用紙!$J$19=\"\",\"\",記入用紙!$J$19)","v":""}]
[{"$nulls":8},{"$f":"IF(記入用紙!$E$21=\"\",\"\",記入用紙!$E$21)","v":""},{"$nulls":23},{"$f":"IF(記入用紙!$J$21=\"\",\"\",記入用紙!$J$21)","v":""}]
[]
[null,null,"ﾌﾘｶﾞﾅ",{"$nulls":5},{"$f":"IF(記入用紙!$E$22=\"\",\"\",記入用紙!$E$22)","v":""},{"$nulls":17},"ﾌﾘｶﾞﾅ",{"$nulls":5},{"$f":"IF(記入用紙!$J$22=\"\",\"\",記入用紙!$J$22)","v":""}]
[null,null,"代 表 者",{"$nulls":5},{"$f":"IF(記入用紙!$E$23=\"\",\"\",記入用紙!$E$23)","v":""},{"$nulls":17},"代 表 者",{"$nulls":5},{"$f":"IF(記入用紙!$J$23=\"\",\"\",記入用紙!$J$23)","v":""}]
[]
[null,null,"電話番号",{"$nulls":5},{"$f":"IF(記入用紙!$E$24=\"\",\"\",記入用紙!$E$24)","v":""},{"$nulls":17},"電話番号",{"$nulls":5},{"$f":"IF(記入用紙!$J$24=\"\",\"\",記入用紙!$J$24)","v":""}]
[]
[null,null,"FAX番号",{"$nulls":5},{"$f":"IF(記入用紙!$E$25=\"\",\"\",記入用紙!$E$25)","v":""},{"$nulls":17},"FAX番号",{"$nulls":5},{"$f":"IF(記入用紙!$J$25=\"\",\"\",記入用紙!$J$25)","v":""}]
[]
[null,null,"建設業許可番号",{"$nulls":9},"資本金",null,null,{"$f":"IF(記入用紙!$E$26=\"\",\"\",記入用紙!$E$26)","v":""},{"$nulls":4},"円",{"$nulls":5},"建設業許可番号",{"$nulls":9},"資本金",null,null,{"$f":"IF(記入用紙!$J$26=\"\",\"\",記入用紙!$J$26)","v":""},{"$nulls":4},"円"]
[null,null,{"$f":"IF(記入用紙!$E$27=\"\",\"\",記入用紙!$E$27)","v":""},{"$nulls":23},{"$f":"IF(記入用紙!$J$27=\"\",\"\",記入用紙!$J$27)","v":""}]
[null,null,"建設業許可年月日",{"$nulls":8},{"$f":"IF(記入用紙!$E$28=\"\",\"\",記入用紙!$E$28)","v":""},{"$nulls":14},"建設業許可年月日",{"$nulls":8},{"$f":"IF(記入用紙!$J$28=\"\",\"\",記入用紙!$J$28)","v":""}]
[]
[null,null,"業種コード",{"$nulls":9},"業種名",null,null,{"$f":"IF(記入用紙!$E$29=\"\",\"\",記入用紙!$E$29)","v":""},{"$nulls":10},"業種コード",{"$nulls":9},"業種名",null,null,{"$f":"IF(記入用紙!$J$29=\"\",\"\",記入用紙!J$29)","v":""}]
[]
[null,null,"銀行コード",{"$nulls":5},{"$f":"IF(記入用紙!$E$30=\"\",\"\",記入用紙!$E$30)","v":""},{"$nulls":3},"銀行名",null,null,{"$f":"IF(記入用紙!$F$30=\"\",\"\",記入用紙!$F$30)","v":""},{"$nulls":10},"銀行コード",{"$nulls":5},{"$f":"IF(記入用紙!$J$30=\"\",\"\",記入用紙!$J$30)","v":""},{"$nulls":3},"銀行名",null,null,{"$f":"IF(記入用紙!$K$30=\"\",\"\",記入用紙!$K$30)","v":""}]
[]
[null,null,"支店コード",{"$nulls":5},{"$f":"IF(記入用紙!$E$31=\"\",\"\",記入用紙!$E$31)","v":""},{"$nulls":3},"支店名",null,null,{"$f":"IF(記入用紙!$F$31=\"\",\"\",記入用紙!$F$31)","v":""},{"$nulls":10},"支店コード",{"$nulls":5},{"$f":"IF(記入用紙!$J$31=\"\",\"\",記入用紙!$J$31)","v":""},{"$nulls":3},"支店名",null,null,{"$f":"IF(記入用紙!$K$31=\"\",\"\",記入用紙!$K$31)","v":""}]
[]
[null,null,"預金種別",{"$nulls":5},{"$f":"IF(記入用紙!$E$32=\"\",\"\",記入用紙!$E$32)","v":""},{"$nulls":3},"口座番号",{"$nulls":3},{"$f":"IF(記入用紙!$E$33=\"\",\"\",記入用紙!$E$33)","v":""},{"$nulls":9},"預金種別",{"$nulls":5},{"$f":"IF(記入用紙!$J$32=\"\",\"\",記入用紙!$J$32)","v":""},{"$nulls":3},"口座番号",{"$nulls":3},{"$f":"IF(記入用紙!$J$33=\"\",\"\",記入用紙!$J$33)","v":""}]
[]
[null,null,"口座名義",{"$nulls":5},{"$f":"MID(記入用紙!$E$34,1,1)","v":""},{"$f":"MID(記入用紙!$E$34,2,1)","v":""},{"$f":"MID(記入用紙!$E$34,3,1)","v":""},{"$f":"MID(記入用紙!$E$34,4,1)","v":""},{"$f":"MID(記入用紙!$E$34,5,1)","v":""},{"$f":"MID(記入用紙!$E$34,6,1)","v":""},{"$f":"MID(記入用紙!$E$34,7,1)","v":""},{"$f":"MID(記入用紙!$E$34,8,1)","v":""},{"$f":"MID(記入用紙!$E$34,9,1)","v":""},{"$f":"MID(記入用紙!$E$34,10,1)","v":""},{"$f":"MID(記入用紙!$E$34,11,1)","v":""},{"$f":"MID(記入用紙!$E$34,12,1)","v":""},{"$f":"MID(記入用紙!$E$34,13,1)","v":""},{"$f":"MID(記入用紙!$E$34,14,1)","v":""},{"$f":"MID(記入用紙!$E$34,15,1)","v":""},{"$nulls":3},"口座名義",{"$nulls":5},{"$f":"MID(記入用紙!$J$34,1,1)","v":""},{"$f":"MID(記入用紙!$J$34,2,1)","v":""},{"$f":"MID(記入用紙!$J$34,3,1)","v":""},{"$f":"MID(記入用紙!$J$34,4,1)","v":""},{"$f":"MID(記入用紙!$J$34,5,1)","v":""},{"$f":"MID(記入用紙!$J$34,6,1)","v":""},{"$f":"MID(記入用紙!$J$34,7,1)","v":""},{"$f":"MID(記入用紙!$J$34,8,1)","v":""},{"$f":"MID(記入用紙!$J$34,9,1)","v":""},{"$f":"MID(記入用紙!$J$34,10,1)","v":""},{"$f":"MID(記入用紙!$J$34,11,1)","v":""},{"$f":"MID(記入用紙!$J$34,12,1)","v":""},{"$f":"MID(記入用紙!$J$34,13,1)","v":""},{"$f":"MID(記入用紙!$J$34,14,1)","v":""},{"$f":"MID(記入用紙!$J$34,15,1)","v":""}]
[null,null,"（ｶﾀｶﾅ）",{"$nulls":5},{"$f":"MID(記入用紙!$E$34,16,1)","v":""},{"$f":"MID(記入用紙!$E$34,17,1)","v":""},{"$f":"MID(記入用紙!$E$34,18,1)","v":""},{"$f":"MID(記入用紙!$E$34,19,1)","v":""},{"$f":"MID(記入用紙!$E$34,20,1)","v":""},{"$f":"MID(記入用紙!$E$34,21,1)","v":""},{"$f":"MID(記入用紙!$E$34,22,1)","v":""},{"$f":"MID(記入用紙!$E$34,23,1)","v":""},{"$f":"MID(記入用紙!$E$34,24,1)","v":""},{"$f":"MID(記入用紙!$E$34,25,1)","v":""},{"$f":"MID(記入用紙!$E$34,26,1)","v":""},{"$f":"MID(記入用紙!$E$34,27,1)","v":""},{"$f":"MID(記入用紙!$E$34,28,1)","v":""},{"$f":"MID(記入用紙!$E$34,29,1)","v":""},{"$f":"MID(記入用紙!$E$34,30,1)","v":""},{"$nulls":3},"（ｶﾀｶﾅ）",{"$nulls":5},{"$f":"MID(記入用紙!$J$34,16,1)","v":""},{"$f":"MID(記入用紙!$J$34,17,1)","v":""},{"$f":"MID(記入用紙!$J$34,18,1)","v":""},{"$f":"MID(記入用紙!$J$34,19,1)","v":""},{"$f":"MID(記入用紙!$J$34,20,1)","v":""},{"$f":"MID(記入用紙!$J$34,21,1)","v":""},{"$f":"MID(記入用紙!$J$34,22,1)","v":""},{"$f":"MID(記入用紙!$J$34,23,1)","v":""},{"$f":"MID(記入用紙!$J$34,24,1)","v":""},{"$f":"MID(記入用紙!$J$34,25,1)","v":""},{"$f":"MID(記入用紙!$J$34,26,1)","v":""},{"$f":"MID(記入用紙!$J$34,27,1)","v":""},{"$f":"MID(記入用紙!$J$34,28,1)","v":""},{"$f":"MID(記入用紙!$J$34,29,1)","v":""},{"$f":"MID(記入用紙!$J$34,30,1)","v":""}]
[]
[null,null,"取引現場名",{"$nulls":5},{"$f":"IF(記入用紙!$E$35=\"\",\"\",記入用紙!$E$35)","v":""},{"$nulls":25},"請求書届出印"]
[]
[null,null,"取引支店名",{"$nulls":5},{"$f":"IF(記入用紙!$E$36=\"\",\"\",記入用紙!$E$36)","v":""}]
[]
[null,null,"・","本口座振込依頼書により、上記指定銀行預金口座へ振込み下されば、"]
[{"$nulls":3},"振込みと同時に当方にて代金の受領と認め別に領収証は発行いたしません。",{"$nulls":39},"記入担当者"]
[null,null,"・","尚、送金手数料は当方負担とし、御支払代金より差引きください。",{"$nulls":39},{"$f":"IF(記入用紙!$J$37=\"\",\"\",記入用紙!$J$37)","v":""}]
[null,null,"・","記載事項に変更があった場合は遅滞なく本票を差換えます。"]
[null,null,"・","上記記載事項についてすべて了承致します。"]
[]
[]
[null,"（栗本建設工業記入欄）"]
[null,null,"①",{"$nulls":10},"②",{"$nulls":9},"③"]
[null,null,"業者コード",{"$nulls":5},"電話下４桁",{"$nulls":4},"基本契約番号",{"$nulls":9},"銀行コード",{"$nulls":5},"支店コード",{"$nulls":10},"検印",{"$nulls":3},"担当"]
[]
[]
[null,null,"安全協力会費",{"$nulls":5},"栗建会"]
[null,null,"/10000"]
[]
[{"$nulls":43},"（登録店控え）"]
[]
[{"$nulls":46},"3","/",3]
[{"$nulls":38},{"$f":"$AM$2","v":"2023-11-29"}]
[{"$nulls":14},"口　座　振　込　依　頼　書"]
[]
[{"$nulls":14},"変　更　届　出　書"]
[]
[null,null,"栗本建設工業株式会社　御中",{"$nulls":24},"(業者コード)",{"$nulls":6},"(会社名)"]
[]
[{"$nulls":27},{"$f":"MID(記入用紙!$J$12,1,1)","v":""},{"$f":"MID(記入用紙!$J$12,2,1)","v":""},{"$f":"MID(記入用紙!$J$12,3,1)","v":""},{"$f":"MID(記入用紙!$J$12,4,1)","v":""},{"$f":"MID(記入用紙!$J$12,5,1)","v":""},{"$f":"MID(記入用紙!$J$12,6,1)","v":""},{"$f":"MID(記入用紙!$F$34,6,1)","v":""},{"$f":"IF(記入用紙!$J$18=\"\",\"\",記入用紙!$J$18)","v":""}]
[]
[{"$nulls":27},"(インボイス登録番号）",{"$nulls":6},{"$f":"MID(記入用紙!$J$38,1,1)","v":""},{"$f":"MID(記入用紙!$J$38,2,1)","v":""},{"$f":"MID(記入用紙!$J$38,3,1)","v":""},{"$f":"MID(記入用紙!$J$38,4,1)","v":""},{"$f":"MID(記入用紙!$J$38,5,1)","v":""},{"$f":"MID(記入用紙!$J$38,6,1)","v":""},{"$f":"MID(記入用紙!$J$38,7,1)","v":""},{"$f":"MID(記入用紙!$J$38,8,1)","v":""},{"$f":"MID(記入用紙!$J$38,9,1)","v":""},{"$f":"MID(記入用紙!$J$38,10,1)","v":""},{"$f":"MID(記入用紙!$J$38,11,1)","v":""},{"$f":"MID(記入用紙!$J$38,12,1)","v":""},{"$f":"MID(記入用紙!$J$38,13,1)","v":""},{"$f":"MID(記入用紙!$J$38,14,1)","v":""}]
[]
[]
[]
[null,"現　在　登　録",{"$nulls":22},"変　　　更　　　後"]
[]
[null,null,"ﾌﾘｶﾞﾅ",{"$nulls":5},{"$f":"IF(記入用紙!$E$17=\"\",\"\",記入用紙!$E$17)","v":""},{"$nulls":17},"ﾌﾘｶﾞﾅ",{"$nulls":5},{"$f":"IF(記入用紙!$J$17=\"\",\"\",記入用紙!$J$17)","v":""}]
[null,null,"会 社 名",{"$nulls":5},{"$f":"IF(記入用紙!$E$18=\"\",\"\",記入用紙!$E$18)","v":""},{"$nulls":17},"会 社 名",{"$nulls":5},{"$f":"IF(記入用紙!$J$18=\"\",\"\",記入用紙!$J$18)","v":""}]
[]
[null,null,"ﾌﾘｶﾞﾅ",{"$nulls":5},{"$f":"IF(記入用紙!$E$20=\"\",\"\",記入用紙!$E$20)","v":""},{"$nulls":17},"ﾌﾘｶﾞﾅ",{"$nulls":5},{"$f":"IF(記入用紙!$J$20=\"\",\"\",記入用紙!$J$20)","v":""}]
[null,null,"住    所",{"$nulls":5},"〒",{"$f":"IF(記入用紙!$E$19=\"\",\"\",記入用紙!$E$19)","v":""},{"$nulls":16},"住    所",{"$nulls":5},"〒",{"$f":"IF(記入用紙!$J$19=\"\",\"\",記入用紙!$J$19)","v":""}]
[{"$nulls":8},{"$f":"IF(記入用紙!$E$21=\"\",\"\",記入用紙!$E$21)","v":""},{"$nulls":23},{"$f":"IF(記入用紙!$J$21=\"\",\"\",記入用紙!$J$21)","v":""}]
[]
[null,null,"ﾌﾘｶﾞﾅ",{"$nulls":5},{"$f":"IF(記入用紙!$E$22=\"\",\"\",記入用紙!$E$22)","v":""},{"$nulls":17},"ﾌﾘｶﾞﾅ",{"$nulls":5},{"$f":"IF(記入用紙!$J$22=\"\",\"\",記入用紙!$J$22)","v":""}]
[null,null,"代 表 者",{"$nulls":5},{"$f":"IF(記入用紙!$E$23=\"\",\"\",記入用紙!$E$23)","v":""},{"$nulls":17},"代 表 者",{"$nulls":5},{"$f":"IF(記入用紙!$J$23=\"\",\"\",記入用紙!$J$23)","v":""}]
[]
[null,null,"電話番号",{"$nulls":5},{"$f":"IF(記入用紙!$E$24=\"\",\"\",記入用紙!$E$24)","v":""},{"$nulls":17},"電話番号",{"$nulls":5},{"$f":"IF(記入用紙!$J$24=\"\",\"\",記入用紙!$J$24)","v":""}]
[]
[null,null,"FAX番号",{"$nulls":5},{"$f":"IF(記入用紙!$E$25=\"\",\"\",記入用紙!$E$25)","v":""},{"$nulls":17},"FAX番号",{"$nulls":5},{"$f":"IF(記入用紙!$J$25=\"\",\"\",記入用紙!$J$25)","v":""}]
[]
[null,null,"建設業許可番号",{"$nulls":9},"資本金",null,null,{"$f":"IF(記入用紙!$E$26=\"\",\"\",記入用紙!$E$26)","v":""},{"$nulls":4},"円",{"$nulls":5},"建設業許可番号",{"$nulls":9},"資本金",null,null,{"$f":"IF(記入用紙!$J$26=\"\",\"\",記入用紙!$J$26)","v":""},{"$nulls":4},"円"]
[null,null,{"$f":"IF(記入用紙!$E$27=\"\",\"\",記入用紙!$E$27)","v":""},{"$nulls":23},{"$f":"IF(記入用紙!$J$27=\"\",\"\",記入用紙!$J$27)","v":""}]
[null,null,"建設業許可年月日",{"$nulls":8},{"$f":"IF(記入用紙!$E$28=\"\",\"\",記入用紙!$E$28)","v":""},{"$nulls":14},"建設業許可年月日",{"$nulls":8},{"$f":"IF(記入用紙!$J$28=\"\",\"\",記入用紙!$J$28)","v":""}]
[]
[null,null,"業種コード",{"$nulls":9},"業種名",null,null,{"$f":"IF(記入用紙!$E$29=\"\",\"\",記入用紙!$E$29)","v":""},{"$nulls":10},"業種コード",{"$nulls":9},"業種名",null,null,{"$f":"IF(記入用紙!$J$29=\"\",\"\",記入用紙!J$29)","v":""}]
[]
[null,null,"銀行コード",{"$nulls":5},{"$f":"IF(記入用紙!$E$30=\"\",\"\",記入用紙!$E$30)","v":""},{"$nulls":3},"銀行名",null,null,{"$f":"IF(記入用紙!$F$30=\"\",\"\",記入用紙!$F$30)","v":""},{"$nulls":10},"銀行コード",{"$nulls":5},{"$f":"IF(記入用紙!$J$30=\"\",\"\",記入用紙!$J$30)","v":""},{"$nulls":3},"銀行名",null,null,{"$f":"IF(記入用紙!$K$30=\"\",\"\",記入用紙!$K$30)","v":""}]
[]
[null,null,"支店コード",{"$nulls":5},{"$f":"IF(記入用紙!$E$31=\"\",\"\",記入用紙!$E$31)","v":""},{"$nulls":3},"支店名",null,null,{"$f":"IF(記入用紙!$F$31=\"\",\"\",記入用紙!$F$31)","v":""},{"$nulls":10},"支店コード",{"$nulls":5},{"$f":"IF(記入用紙!$J$31=\"\",\"\",記入用紙!$J$31)","v":""},{"$nulls":3},"支店名",null,null,{"$f":"IF(記入用紙!$K$31=\"\",\"\",記入用紙!$K$31)","v":""}]
[]
[null,null,"預金種別",{"$nulls":5},{"$f":"IF(記入用紙!$E$32=\"\",\"\",記入用紙!$E$32)","v":""},{"$nulls":3},"口座番号",{"$nulls":3},{"$f":"IF(記入用紙!$E$33=\"\",\"\",記入用紙!$E$33)","v":""},{"$nulls":9},"預金種別",{"$nulls":5},{"$f":"IF(記入用紙!$J$32=\"\",\"\",記入用紙!$J$32)","v":""},{"$nulls":3},"口座番号",{"$nulls":3},{"$f":"IF(記入用紙!$J$33=\"\",\"\",記入用紙!$J$33)","v":""}]
[]
[null,null,"口座名義",{"$nulls":5},{"$f":"MID(記入用紙!$E$34,1,1)","v":""},{"$f":"MID(記入用紙!$E$34,2,1)","v":""},{"$f":"MID(記入用紙!$E$34,3,1)","v":""},{"$f":"MID(記入用紙!$E$34,4,1)","v":""},{"$f":"MID(記入用紙!$E$34,5,1)","v":""},{"$f":"MID(記入用紙!$E$34,6,1)","v":""},{"$f":"MID(記入用紙!$E$34,7,1)","v":""},{"$f":"MID(記入用紙!$E$34,8,1)","v":""},{"$f":"MID(記入用紙!$E$34,9,1)","v":""},{"$f":"MID(記入用紙!$E$34,10,1)","v":""},{"$f":"MID(記入用紙!$E$34,11,1)","v":""},{"$f":"MID(記入用紙!$E$34,12,1)","v":""},{"$f":"MID(記入用紙!$E$34,13,1)","v":""},{"$f":"MID(記入用紙!$E$34,14,1)","v":""},{"$f":"MID(記入用紙!$E$34,15,1)","v":""},{"$nulls":3},"口座名義",{"$nulls":5},{"$f":"MID(記入用紙!$J$34,1,1)","v":""},{"$f":"MID(記入用紙!$J$34,2,1)","v":""},{"$f":"MID(記入用紙!$J$34,3,1)","v":""},{"$f":"MID(記入用紙!$J$34,4,1)","v":""},{"$f":"MID(記入用紙!$J$34,5,1)","v":""},{"$f":"MID(記入用紙!$J$34,6,1)","v":""},{"$f":"MID(記入用紙!$J$34,7,1)","v":""},{"$f":"MID(記入用紙!$J$34,8,1)","v":""},{"$f":"MID(記入用紙!$J$34,9,1)","v":""},{"$f":"MID(記入用紙!$J$34,10,1)","v":""},{"$f":"MID(記入用紙!$J$34,11,1)","v":""},{"$f":"MID(記入用紙!$J$34,12,1)","v":""},{"$f":"MID(記入用紙!$J$34,13,1)","v":""},{"$f":"MID(記入用紙!$J$34,14,1)","v":""},{"$f":"MID(記入用紙!$J$34,15,1)","v":""}]
[null,null,"（ｶﾀｶﾅ）",{"$nulls":5},{"$f":"MID(記入用紙!$E$34,16,1)","v":""},{"$f":"MID(記入用紙!$E$34,17,1)","v":""},{"$f":"MID(記入用紙!$E$34,18,1)","v":""},{"$f":"MID(記入用紙!$E$34,19,1)","v":""},{"$f":"MID(記入用紙!$E$34,20,1)","v":""},{"$f":"MID(記入用紙!$E$34,21,1)","v":""},{"$f":"MID(記入用紙!$E$34,22,1)","v":""},{"$f":"MID(記入用紙!$E$34,23,1)","v":""},{"$f":"MID(記入用紙!$E$34,24,1)","v":""},{"$f":"MID(記入用紙!$E$34,25,1)","v":""},{"$f":"MID(記入用紙!$E$34,26,1)","v":""},{"$f":"MID(記入用紙!$E$34,27,1)","v":""},{"$f":"MID(記入用紙!$E$34,28,1)","v":""},{"$f":"MID(記入用紙!$E$34,29,1)","v":""},{"$f":"MID(記入用紙!$E$34,30,1)","v":""},{"$nulls":3},"（ｶﾀｶﾅ）",{"$nulls":5},{"$f":"MID(記入用紙!$J$34,16,1)","v":""},{"$f":"MID(記入用紙!$J$34,17,1)","v":""},{"$f":"MID(記入用紙!$J$34,18,1)","v":""},{"$f":"MID(記入用紙!$J$34,19,1)","v":""},{"$f":"MID(記入用紙!$J$34,20,1)","v":""},{"$f":"MID(記入用紙!$J$34,21,1)","v":""},{"$f":"MID(記入用紙!$J$34,22,1)","v":""},{"$f":"MID(記入用紙!$J$34,23,1)","v":""},{"$f":"MID(記入用紙!$J$34,24,1)","v":""},{"$f":"MID(記入用紙!$J$34,25,1)","v":""},{"$f":"MID(記入用紙!$J$34,26,1)","v":""},{"$f":"MID(記入用紙!$J$34,27,1)","v":""},{"$f":"MID(記入用紙!$J$34,28,1)","v":""},{"$f":"MID(記入用紙!$J$34,29,1)","v":""},{"$f":"MID(記入用紙!$J$34,30,1)","v":""}]
[]
[null,null,"取引現場名",{"$nulls":5},{"$f":"IF(記入用紙!$E$35=\"\",\"\",記入用紙!$E$35)","v":""},{"$nulls":25},"請求書届出印"]
[]
[null,null,"取引支店名",{"$nulls":5},{"$f":"IF(記入用紙!$E$36=\"\",\"\",記入用紙!$E$36)","v":""}]
[]
[null,null,"・","本口座振込依頼書により、上記指定銀行預金口座へ振込み下されば、"]
[{"$nulls":3},"振込みと同時に当方にて代金の受領と認め別に領収証は発行いたしません。",{"$nulls":39},"記入担当者"]
[null,null,"・","尚、送金手数料は当方負担とし、御支払代金より差引きください。",{"$nulls":39},{"$f":"IF(記入用紙!$J$37=\"\",\"\",記入用紙!$J$37)","v":""}]
[null,null,"・","記載事項に変更があった場合は遅滞なく本票を差換えます。"]
[null,null,"・","上記記載事項についてすべて了承致します。"]
[]
[]
[null,"（栗本建設工業記入欄）"]
[null,null,"①",{"$nulls":10},"②",{"$nulls":9},"③"]
[null,null,"業者コード",{"$nulls":5},"電話下４桁",{"$nulls":4},"基本契約番号",{"$nulls":9},"銀行コード",{"$nulls":5},"支店コード",{"$nulls":6},"経理",{"$nulls":3},"検印",{"$nulls":3},"担当"]
[]
[]
[null,null,"安全協力会費",{"$nulls":5},"栗建会",{"$nulls":4},"インボイス登録番号"]
[null,null,"/10000",{"$nulls":10},{"$f":"MID(記入用紙!$J$38,1,1)","v":""},{"$f":"MID(記入用紙!$J$38,2,1)","v":""},{"$f":"MID(記入用紙!$J$38,3,1)","v":""},{"$f":"MID(記入用紙!$J$38,4,1)","v":""},{"$f":"MID(記入用紙!$J$38,5,1)","v":""},{"$f":"MID(記入用紙!$J$38,6,1)","v":""},{"$f":"MID(記入用紙!$J$38,7,1)","v":""},{"$f":"MID(記入用紙!$J$38,8,1)","v":""},{"$f":"MID(記入用紙!$J$38,9,1)","v":""},{"$f":"MID(記入用紙!$J$38,10,1)","v":""},{"$f":"MID(記入用紙!$J$38,11,1)","v":""},null,{"$f":"MID(記入用紙!$J$38,12,1)","v":""},null,{"$f":"MID(記入用紙!$J$38,13,1)","v":""},{"$f":"MID(記入用紙!$J$38,14,1)","v":""}]
[]
[{"$nulls":43},"（本社控え）"]

{"sheet":"修正点","index":3,"n_rows":17,"n_cols":3,"rows_kept":17,"hidden":true}
[]
["日付","データ名","変更内容"]
["2022.11.11","口座振替依頼書変更届出書20221111","・出力シート、住所欄のセルの文字表示設定を「縮小全体表示」に変更（２～３枚目）"]
[null,null,"・出力シート、フリガナ→ﾌﾘｶﾞﾅ"]
[null,null,"・記入例を追加（入力シートのみの記入だったので、出力用紙用の記入例を追加）"]
[null,null,"・記入シート、印刷ボタン横の文字修正"]
[]
["2023.10.2","口座振替依頼書変更届出書20231002","①インボイス登録番号の記入欄を追加（記入用紙）"]
[null,null,"②銀行コード支店コードの記入欄を追加（記入用紙）"]
[null,null,"③記入担当者を必須項目とする（記入用紙）"]
[null,null,"④領収書印欄の廃止（口座振込依頼書・変更届出書））"]
[null,null,"⑤領収書印欄の廃止（口座振込依頼書・変更届出書））"]
[null,null,"⑥用紙右上の業者コード、会社名のレイアウト変更、インボイス登録番号を追加表示（口座振込依頼書・変更届出書）"]
[null,null,"⑦当社記入欄の変更　支払い率・手形率・サイトの廃止（口座振込依頼書・変更届出書）"]
[null,null,"⑧変更項目が次の場合は、届出書をFAXにて受付可能とし、原本の提出は不要とする"]
[null,null,"　1.電話番号及びFAX番号、建設業許可証番号"]
[null,null,"⑨FAX番号の登録がない協力会社に対しては、原則、支払い案内書は送らない。"]