{"text_format":"3","workbook":"xlsx","n_sheets":3,"sheets":["記入用紙","口座振込依頼書","変更届出書"],"not_rendered":{"macros":1,"defined_names":3,"comments":1},"read":"whole","date_system":"1900"}

{"sheet":"記入用紙","index":0,"n_rows":36,"n_cols":7,"rows_kept":36,"merged":[[1,2,2,4],[1,6,2,8],[3,2,3,4],[3,6,3,8],[5,2,5,4],[5,6,5,8],[9,6,9,8],[11,2,11,4],[11,6,12,6],[11,8,12,8],[13,6,13,8],[14,2,14,4]]}
[]
[null,null,"新規　口座振込依頼書作成時",{"$nulls":3},"口座振込依頼書登録変更時"]
[]
[null,null,"１、赤枠内全てにご記入ください。",{"$nulls":3},"１、必須以外は、変更項目のみご記入ください。"]
[]
[null,null,"２、　　　　　　　　　　　で内容の確認",{"$nulls":3},"２、　　　　　　　　　 　　で内容の確認"]
[]
[null,null,"３、　　　　　　　　　　　で印刷",{"$nulls":3},"３、　 　　　　　　　　　　で印刷"]
[]
[]
[]
[{"$nulls":6},"業者コード【必須】"]
[]
[]
[{"$nulls":6},"会社名【必須】"]
[]
[null,null,"ﾌﾘｶﾞﾅ",{"$nulls":3},"ﾌﾘｶﾞﾅ"]
[null,null,"会社名",{"$nulls":3},"会社名"]
[null,null,"郵便番号",{"$nulls":3},"郵便番号"]
[null,null,"ﾌﾘｶﾞﾅ",{"$nulls":3},"ﾌﾘｶﾞﾅ"]
[null,null,"住所",{"$nulls":3},"住所"]
[null,null,"ﾌﾘｶﾞﾅ",{"$nulls":3},"ﾌﾘｶﾞﾅ"]
[null,null,"代表者名",{"$nulls":3},"代表者名"]
[null,null,"電話番号",{"$nulls":3},"電話番号"]
[null,null,"ＦＡＸ番号",{"$nulls":3},"ＦＡＸ番号"]
[null,null,"資本金",{"$nulls":3},"資本金"]
[null,null,"建設業許可番号",{"$nulls":3},"建設業許可番号"]
[null,null,"許可年月日",{"$nulls":3},"許可年月日"]
[null,null,"業種名",{"$nulls":3},"業種名"]
[null,null,"振込銀行",{"$nulls":3},"振込銀行"]
[null,null,"預金種別",{"$nulls":3},"預金種別"]
[null,null,"口座番号",{"$nulls":3},"口座番号"]
[null,null,"口座名義（半角ｶﾅ）",{"$nulls":3},"口座名義（半角ｶﾅ）"]
[null,null,"取引現場名",{"$nulls":3},"取引現場名"]
[null,null,"取引支店名",{"$nulls":3},"取引支店名"]
[null,null,"記入担当者【必須】",{"$nulls":3},"記入担当者【必須】"]

{"sheet":"口座振込依頼書","index":1,"n_rows":188,"n_cols":49,"rows_kept":188,"merged":[[2,38,2,46],[3,12,3,13],[5,12,5,13],[7,2,7,17],[9,16,9,23],[9,24,9,34],[11,16,11,23],[11,24,11,47],[14,1,14,23],[14,24,14,47],[16,2,16,7],[16,8,16,22],[16,26,16,31],[16,32,16,46],[17,2,17,7],[17,8,17,22],[17,26,17,31],[17,32,17,46],[19,2,19,7],[19,8,19,22],[19,26,19,31],[19,32,19,46],[20,2,21,7],[20,9,20,22],[20,26,21,31],[20,33,20,46],[21,8,21,22],[21,32,21,46],[23,2,23,7],[23,8,23,22],[23,26,23,31],[23,32,23,46],[24,2,24,7],[24,8,24,22],[24,26,24,31],[24,32,24,46],[26,2,26,7],[26,8,26,22],[26,26,26,31],[26,32,26,46],[28,2,28,7],[28,8,28,22],[28,26,28,31],[28,32,28,46],[30,2,30,7],[30,12,30,14],[30,15,30,20],[30,21,30,22],[30,26,30,31],[30,36,30,38],[30,39,30,44],[30,45,30,46],[31,2,31,22],[31,26,31,46],[32,2,32,10],[32,11,32,22],[32,26,32,34],[32,35,32,46],[34,2,34,7],[34,12,34,14],[34,15,34,22],[34,26,34,31],[34,36,34,38],[34,39,34,46],[36,2,36,7],[36,8,36,22],[36,26,36,31],[36,32,36,46],[38,2,38,7],[38,8,38,11],[38,12,38,15],[38,16,38,22],[38,26,38,31],[38,32,38,35],[38,36,38,39],[38,40,38,46],[40,2,40,7],[40,26,40,31],[41,2,41,7],[41,26,41,31],[43,2,43,7],[43,8,43,22],[43,26,43,33],[43,34,43,41],[43,42,47,47],[44,26,51,33],[44,34,51,41],[45,2,45,7],[45,8,45,22],[48,42,51,42],[48,43,48,46],[48,47,51,47],[49,43,51,46],[56,2,56,7],[56,8,56,11],[56,13,56,21],[56,40,56,43],[56,44,56,47],[57,40,59,43],[57,44,59,47],[65,38,65,46],[66,12,66,13],[68,12,68,13],[70,2,70,17],[72,16,72,23],[72,24,72,34],[74,16,74,23],[74,24,74,34],[77,1,77,23],[77,24,77,47],[79,2,79,7],[79,8,79,22],[79,26,79,31],[79,32,79,46],[80,2,80,7],[80,8,80,22],[80,26,80,31],[80,32,80,46],[82,2,82,7],[82,8,82,22],[82,26,82,31],[82,32,82,46],[83,2,84,7],[83,9,83,22],[83,26,84,31],[83,33,83,46],[84,8,84,22],[84,32,84,46],[86,2,86,7],[86,8,86,22],[86,26,86,31],[86,32,86,46],[87,2,87,7],[87,8,87,22],[87,26,87,31],[87,32,87,46],[89,2,89,7],[89,8,89,22],[89,26,89,31],[89,32,89,46],[91,2,91,7],[91,8,91,22],[91,26,91,31],[91,32,91,46],[93,2,93,7],[93,12,93,14],[93,15,93,20],[93,21,93,22],[93,26,93,31],[93,36,93,38],[93,39,93,44],[93,45,93,46],[94,2,94,22],[94,26,94,46],[95,2,95,10],[95,11,95,22],[95,26,95,34],[95,35,95,46],[97,2,97,7],[97,12,97,14],[97,15,97,22],[97,26,97,31],[97,36,97,38],[97,39,97,46],[99,2,99,7],[99,8,99,22],[99,26,99,31],[99,32,99,46],[101,2,101,7],[101,8,101,11],[101,12,101,15],[101,16,101,22],[101,26,101,31],[101,32,101,35],[101,36,101,39],[101,40,101,46],[103,2,103,7],[103,26,103,31],[104,2,104,7],[104,26,104,31],[106,2,106,7],[106,8,106,22],[106,26,106,33],[106,34,106,41],[106,42,110,47],[107,26,114,33],[107,34,114,41],[108,2,108,7],[108,8,108,22],[111,42,114,42],[111,43,111,46],[111,47,114,47],[112,43,114,46],[119,2,119,7],[119,8,119,11],[119,13,119,21],[119,26,119,29],[119,30,119,32],[119,40,119,43],[119,44,119,47],[122,2,122,8],[122,9,122,12],[122,13,122,15],[122,16,122,19],[122,20,122,22],[123,2,123,8],[123,13,123,15],[123,16,123,19],[123,20,123,22],[124,2,124,5],[124,6,124,8],[124,13,124,15],[124,16,124,19],[124,20,124,22],[128,38,128,46],[129,12,129,13],[131,12,131,13],[133,2,133,17],[135,16,135,23],[135,24,135,34],[137,16,137,23],[137,24,137,34],[140,1,140,23],[140,24,140,47],[142,2,142,7],[142,8,142,22],[142,26,142,31],[142,32,142,46],[143,2,143,7],[143,8,143,22],[143,26,143,31],[143,32,143,46],[145,2,145,7],[145,8,145,22],[145,26,145,31],[145,32,145,46],[146,2,147,7],[146,9,146,22],[146,26,147,31],[146,33,146,46],[147,8,147,22],[147,32,147,46],[149,2,149,7],[149,8,149,22],[149,26,149,31],[149,32,149,46],[150,2,150,7],[150,8,150,22],[150,26,150,31],[150,32,150,46],[152,2,152,7],[152,8,152,22],[152,26,152,31],[152,32,152,46],[154,2,154,7],[154,8,154,22],[154,26,154,31],[154,32,154,46],[156,2,156,7],[156,12,156,14],[156,15,156,20],[156,21,156,22],[156,26,156,31],[156,36,156,38],[156,39,156,44],[156,45,156,46],[157,2,157,22],[157,26,157,46],[158,2,158,10],[158,11,158,22],[158,26,158,34],[158,35,158,46],[160,2,160,7],[160,12,160,14],[160,15,160,22],[160,26,160,31],[160,36,160,38],[160,39,160,46],[162,2,162,7],[162,8,162,22],[162,26,162,31],[162,32,162,46],[164,2,164,7],[164,8,164,11],[164,12,164,15],[164,16,164,22],[164,26,164,31],[164,32,164,35],[164,36,164,39],[164,40,164,46],[166,2,166,7],[166,26,166,31],[167,2,167,7],[167,26,167,31],[169,2,169,7],[169,8,169,22],[169,26,169,33],[169,34,169,41],[169,42,173,47],[170,26,177,33],[170,34,177,41],[171,2,171,7],[171,8,171,22],[174,42,177,42],[174,43,174,46],[174,47,177,47],[175,43,177,46],[182,2,182,7],[182,8,182,11],[182,13,182,21],[182,26,182,29],[182,30,182,32],[182,40,182,43],[182,44,182,47],[185,2,185,8],[185,9,185,12],[185,13,185,15],[185,16,185,19],[185,20,185,22],[186,2,186,8],[186,13,186,15],[186,16,186,19],[186,20,186,22],[187,2,187,5],[187,6,187,8],[187,13,187,15],[187,16,187,19],[187,20,187,22]]}
[{"$nulls":46},"1","/",3]
[]
[{"$nulls":38},{"$f":"TODAY()","v":"2022-03-25"}]
[{"$nulls":14},"口　座　振　込　依　頼　書"]
[]
[{"$nulls":14},"変　更　届　出　書"]
[]
[null,null,"栗本建設工業株式会社　御中"]
[]
[{"$nulls":16},"業者コード"]
[]
[{"$nulls":16},"会　社　名",{"$nulls":7},{"$f":"IF(記入用紙!E18=\"\",\"\",記入用紙!E18)","v":""}]
[]
[]
[null,"現　在　登　録",{"$nulls":22},"変　　　更　　　後"]
[]
[null,null,"フリガナ",{"$nulls":5},{"$f":"IF(記入用紙!E17=\"\",\"\",記入用紙!E17)","v":""},{"$nulls":17},"フリガナ",{"$nulls":5},{"$f":"IF(記入用紙!I17=\"\",\"\",記入用紙!I17)","v":""}]
[null,null,"会 社 名",{"$nulls":5},{"$f":"IF(記入用紙!E18=\"\",\"\",記入用紙!E18)","v":""},{"$nulls":17},"会 社 名",{"$nulls":5},{"$f":"IF(記入用紙!I18=\"\",\"\",記入用紙!I18)","v":""}]
[]
[null,null,"フリガナ",{"$nulls":5},{"$f":"IF(記入用紙!E20=\"\",\"\",記入用紙!E20)","v":""},{"$nulls":17},"フリガナ",{"$nulls":5},{"$f":"IF(記入用紙!I20=\"\",\"\",記入用紙!I20)","v":""}]
[null,null,"住    所",{"$nulls":5},"〒",{"$f":"IF(記入用紙!E19=\"\",\"\",記入用紙!E19)","v":""},{"$nulls":16},"住    所",{"$nulls":5},"〒",{"$f":"IF(記入用紙!I19=\"\",\"\",記入用紙!I19)","v":""}]
[{"$nulls":8},{"$f":"IF(記入用紙!E21=\"\",\"\",記入用紙!E21)","v":""},{"$nulls":23},{"$f":"IF(記入用紙!I21=\"\",\"\",記入用紙!I21)","v":""}]
[]
[null,null,"フリガナ",{"$nulls":5},{"$f":"IF(記入用紙!E22=\"\",\"\",記入用紙!E22)","v":""},{"$nulls":17},"フリガナ",{"$nulls":5},{"$f":"IF(記入用紙!I22=\"\",\"\",記入用紙!I22)","v":""}]
[null,null,"代 表 者",{"$nulls":5},{"$f":"IF(記入用紙!E23=\"\",\"\",記入用紙!E23)","v":""},{"$nulls":17},"代 表 者",{"$nulls":5},{"$f":"IF(記入用紙!I23=\"\",\"\",記入用紙!I23)","v":""}]
[]
[null,null,"電話番号",{"$nulls":5},{"$f":"IF(記入用紙!E24=\"\",\"\",記入用紙!E24)","v":""},{"$nulls":17},"電話番号",{"$nulls":5},{"$f":"IF(記入用紙!I24=\"\",\"\",記入用紙!I24)","v":""}]
[]
[null,null,"FAX番号",{"$nulls":5},{"$f":"IF(記入用紙!E25=\"\",\"\",記入用紙!E25)","v":""},{"$nulls":17},"FAX番号",{"$nulls":5},{"$f":"IF(記入用紙!I25=\"\",\"\",記入用紙!I25)","v":""}]
[]
[null,null,"建設業許可番号",{"$nulls":9},"資本金",null,null,{"$f":"IF(記入用紙!E26=\"\",\"\",記入用紙!E26)","v":""},{"$nulls":5},"円",{"$nulls":4},"建設業許可番号",{"$nulls":9},"資本金",null,null,{"$f":"IF(記入用紙!I26=\"\",\"\",記入用紙!I26)","v":""},{"$nulls":5},"円"]
[null,null,{"$f":"IF(記入用紙!E27=\"\",\"\",記入用紙!E27)","v":""},{"$nulls":23},{"$f":"IF(記入用紙!I27=\"\",\"\",記入用紙!I27)","v":""}]
[null,null,"建設業許可年月日",{"$nulls":8},{"$f":"IF(記入用紙!E28=\"\",\"\",記入用紙!E28)","v":""},{"$nulls":14},"建設業許可年月日",{"$nulls":8},{"$f":"IF(記入用紙!I28=\"\",\"\",記入用紙!I28)","v":""}]
[]
[null,null,"業種コード",{"$nulls":9},"業種名",null,null,{"$f":"IF(記入用紙!E29=\"\",\"\",記入用紙!E29)","v":""},{"$nulls":10},"業種コード",{"$nulls":9},"業種名",null,null,{"$f":"IF(記入用紙!I29=\"\",\"\",記入用紙!I29)","v":""}]
[]
[null,null,"振込銀行",{"$nulls":5},{"$f":"IF(記入用紙!E30=\"\",\"\",記入用紙!E30)","v":""},{"$nulls":17},"振込銀行",{"$nulls":5},{"$f":"IF(記入用紙!I30=\"\",\"\",記入用紙!I30)","v":""}]
[]
[null,null,"預金種別",{"$nulls":5},{"$f":"IF(記入用紙!E31=\"\",\"\",記入用紙!E31)","v":""},{"$nulls":3},"口座番号",{"$nulls":3},{"$f":"IF(記入用紙!E32=\"\",\"\",記入用紙!E32)","v":""},{"$nulls":9},"預金種別",{"$nulls":5},{"$f":"IF(記入用紙!I31=\"\",\"\",記入用紙!I31)","v":""},{"$nulls":3},"口座番号",{"$nulls":3},{"$f":"IF(記入用紙!I32=\"\",\"\",記入用紙!I32)","v":""}]
[]
[null,null,"口座名義",{"$nulls":5},{"$f":"MID(記入用紙!E33,1,1)","v":""},{"$f":"MID(記入用紙!E33,2,1)","v":""},{"$f":"MID(記入用紙!E33,3,1)","v":""},{"$f":"MID(記入用紙!E33,4,1)","v":""},{"$f":"MID(記入用紙!E33,5,1)","v":""},{"$f":"MID(記入用紙!E33,6,1)","v":""},{"$f":"MID(記入用紙!E33,7,1)","v":""},{"$f":"MID(記入用紙!E33,8,1)","v":""},{"$f":"MID(記入用紙!E33,9,1)","v":""},{"$f":"MID(記入用紙!E33,10,1)","v":""},{"$f":"MID(記入用紙!E33,11,1)","v":""},{"$f":"MID(記入用紙!E33,12,1)","v":""},{"$f":"MID(記入用紙!E33,13,1)","v":""},{"$f":"MID(記入用紙!E33,14,1)","v":""},{"$f":"MID(記入用紙!E33,15,1)","v":""},{"$nulls":3},"口座名義",{"$nulls":5},{"$f":"MID(記入用紙!I33,1,1)","v":""},{"$f":"MID(記入用紙!I33,2,1)","v":""},{"$f":"MID(記入用紙!I33,3,1)","v":""},{"$f":"MID(記入用紙!I33,4,1)","v":""},{"$f":"MID(記入用紙!I33,5,1)","v":""},{"$f":"MID(記入用紙!I33,6,1)","v":""},{"$f":"MID(記入用紙!I33,7,1)","v":""},{"$f":"MID(記入用紙!I33,8,1)","v":""},{"$f":"MID(記入用紙!I33,9,1)","v":""},{"$f":"MID(記入用紙!I33,10,1)","v":""},{"$f":"MID(記入用紙!I33,11,1)","v":""},{"$f":"MID(記入用紙!I33,12,1)","v":""},{"$f":"MID(記入用紙!I33,13,1)","v":""},{"$f":"MID(記入用紙!I33,14,1)","v":""},{"$f":"MID(記入用紙!I33,15,1)","v":""}]
[null,null,"（ｶﾀｶﾅ）",{"$nulls":5},{"$f":"MID(記入用紙!E33,16,1)","v":""},{"$f":"MID(記入用紙!E33,17,1)","v":""},{"$f":"MID(記入用紙!E33,18,1)","v":""},{"$f":"MID(記入用紙!E33,19,1)","v":""},{"$f":"MID(記入用紙!E33,20,1)","v":""},{"$f":"MID(記入用紙!E33,21,1)","v":""},{"$f":"MID(記入用紙!E33,22,1)","v":""},{"$f":"MID(記入用紙!E33,23,1)","v":""},{"$f":"MID(記入用紙!E33,24,1)","v":""},{"$f":"MID(記入用紙!E33,25,1)","v":""},{"$f":"MID(記入用紙!E33,26,1)","v":""},{"$f":"MID(記入用紙!E33,27,1)","v":""},{"$f":"MID(記入用紙!E33,28,1)","v":""},{"$f":"MID(記入用紙!E33,29,1)","v":""},{"$f":"MID(記入用紙!E33,30,1)","v":""},{"$nulls":3},"（ｶﾀｶﾅ）",{"$nulls":5},{"$f":"MID(記入用紙!I33,16,1)","v":""},{"$f":"MID(記入用紙!I33,17,1)","v":""},{"$f":"MID(記入用紙!I33,18,1)","v":""},{"$f":"MID(記入用紙!I33,19,1)","v":""},{"$f":"MID(記入用紙!I33,20,1)","v":""},{"$f":"MID(記入用紙!I33,21,1)","v":""},{"$f":"MID(記入用紙!I33,22,1)","v":""},{"$f":"MID(記入用紙!I33,23,1)","v":""},{"$f":"MID(記入用紙!I33,24,1)","v":""},{"$f":"MID(記入用紙!I33,25,1)","v":""},{"$f":"MID(記入用紙!I33,26,1)","v":""},{"$f":"MID(記入用紙!I33,27,1)","v":""},{"$f":"MID(記入用紙!I33,28,1)","v":""},{"$f":"MID(記入用紙!I33,29,1)","v":""},{"$f":"MID(記入用紙!I33,30,1)","v":""}]
[]
[null,null,"取引現場名",{"$nulls":5},{"$f":"IF(記入用紙!E34=\"\",\"\",記入用紙!E34)","v":""},{"$nulls":17},"請求書届出印",{"$nulls":7},"領収書届出印"]
[]
[null,null,"取引支店名",{"$nulls":5},{"$f":"IF(記入用紙!E35=\"\",\"\",記入用紙!E35)","v":""}]
[]
[null,null,"・","本口座振込依頼書により、上記指定銀行預金口座へ振込み下されば、"]
[{"$nulls":3},"振込みと同時に当方にて代金の受領と認め別に領収証は発行いたしません。",{"$nulls":39},"記入担当者"]
[null,null,"・","尚、送金手数料は当方負担とし、御支払代金より差引きください。",{"$nulls":39},{"$f":"IF(記入用紙!I36=\"\",IF(記入用紙!E36=\"\",\"\",記入用紙!E36),記入用紙!I36)","v":""}]
[null,null,"・","記載事項に変更があった場合は遅滞なく本票を差換えます。"]
[null,null,"・","上記記載事項についてすべて了承致します。"]
[]
[]
[null,"（栗本建設工業記入欄及びお願い）"]
[null,null,"①",{"$nulls":10},"②"]
[null,null,"業者コード",{"$nulls":5},"電話下４桁",{"$nulls":4},"基本契約番号",{"$nulls":26},"検印",{"$nulls":3},"担当"]
[]
[]
[null,null,"①業者コード、電話下４桁は請求書記入時に必要です。"]
[null,null,"②弊社と請負工事をされる場合、工事下請基本契約を締結して頂きます。"]
[]
[]
[{"$nulls":46},"2","/",3]
[]
[{"$nulls":38},{"$f":"$AM$3","v":"2022-03-25"}]
[{"$nulls":14},"口　座　振　込　依　頼　書"]
[]
[{"$nulls":14},"変　更　届　出　書"]
[]
[null,null,"栗本建設工業株式会社　御中"]
[]
[{"$nulls":16},"業者コード",{"$nulls":7},{"$f":"$Y$10","v":0}]
[]
[{"$nulls":16},"会　社　名",{"$nulls":7},{"$f":"$Y$12","v":""}]
[]
[]
[null,"現　在　登　録",{"$nulls":22},"変　　　更　　　後"]
[]
[null,null,"フリガナ",{"$nulls":5},{"$f":"$I$17","v":""},{"$nulls":17},"フリガナ",{"$nulls":5},{"$f":"$AG$17","v":""}]
[null,null,"会 社 名",{"$nulls":5},{"$f":"$I$18","v":""},{"$nulls":17},"会 社 名",{"$nulls":5},{"$f":"$AG$18","v":""}]
[]
[null,null,"フリガナ",{"$nulls":5},{"$f":"$I$20","v":""},{"$nulls":17},"フリガナ",{"$nulls":5},{"$f":"$AG$20","v":""}]
[null,null,"住    所",{"$nulls":5},"〒",{"$f":"$J$21","v":""},{"$nulls":16},"住    所",{"$nulls":5},"〒",{"$f":"$AH$21","v":""}]
[{"$nulls":8},{"$f":"$I$22","v":""},{"$nulls":23},{"$f":"$AG$22","v":""}]
[]
[null,null,"フリガナ",{"$nulls":5},{"$f":"$I$24","v":""},{"$nulls":17},"フリガナ",{"$nulls":5},{"$f":"$AG$24","v":""}]
[null,null,"代 表 者",{"$nulls":5},{"$f":"$I$25","v":""},{"$nulls":17},"代 表 者",{"$nulls":5},{"$f":"$AG$25","v":""}]
[]
[null,null,"電話番号",{"$nulls":5},{"$f":"$I$27","v":""},{"$nulls":17},"電話番号",{"$nulls":5},{"$f":"$AG$27","v":""}]
[]
[null,null,"FAX番号",{"$nulls":5},{"$f":"$I$29","v":""},{"$nulls":17},"FAX番号",{"$nulls":5},{"$f":"$AG$29","v":""}]
[]
[null,null,"建設業許可番号",{"$nulls":9},"資本金",null,null,{"$f":"$P$31","v":""},{"$nulls":5},"円",{"$nulls":4},"建設業許可番号",{"$nulls":9},"資本金",null,null,{"$f":"$AN$31","v":""},{"$nulls":5},"円"]
[null,null,{"$f":"$C$32","v":""},{"$nulls":23},{"$f":"$AA$32","v":""}]
[null,null,"建設業許可年月日",{"$nulls":8},{"$f":"$L$33","v":""},{"$nulls":14},"建設業許可年月日",{"$nulls":8},{"$f":"$AJ$33","v":""}]
[]
[null,null,"業種コード",{"$nulls":9},"業種名",null,null,{"$f":"$P$35","v":""},{"$nulls":10},"業種コード",{"$nulls":9},"業種名",null,null,{"$f":"AN35","v":""}]
[]
[null,null,"振込銀行",{"$nulls":5},{"$f":"$I$37","v":""},{"$nulls":17},"振込銀行",{"$nulls":5},{"$f":"$AG$37","v":""}]
[]
[null,null,"預金種別",{"$nulls":5},{"$f":"$I$39","v":""},{"$nulls":3},"口座番号",{"$nulls":3},{"$f":"$Q$39","v":""},{"$nulls":9},"預金種別",{"$nulls":5},{"$f":"$AG$39","v":""},{"$nulls":3},"口座番号",{"$nulls":3},{"$f":"$AO$39","v":""}]
[]
[null,null,"口座名義",{"$nulls":5},{"$f":"$I$41","v":""},{"$f":"$J$41","v":""},{"$f":"$K$41","v":""},{"$f":"$L$41","v":""},{"$f":"$M$41","v":""},{"$f":"$N$41","v":""},{"$f":"$O$41","v":""},{"$f":"$P$41","v":""},{"$f":"$Q$41","v":""},{"$f":"$R$41","v":""},{"$f":"$S$41","v":""},{"$f":"$T$41","v":""},{"$f":"$U$41","v":""},{"$f":"$V$41","v":""},{"$f":"$W$41","v":""},{"$nulls":3},"口座名義",{"$nulls":5},{"$f":"$AG$41","v":""},{"$f":"$AH$41","v":""},{"$f":"$AI$41","v":""},{"$f":"$AJ$41","v":""},{"$f":"$AK$41","v":""},{"$f":"$AL$41","v":""},{"$f":"$AM$41","v":""},{"$f":"$AN$41","v":""},{"$f":"$AO$41","v":""},{"$f":"$AP$41","v":""},{"$f":"$AQ$41","v":""},{"$f":"$AR$41","v":""},{"$f":"$AS$41","v":""},{"$f":"$AT$41","v":""},{"$f":"$AU$41","v":""}]
[null,null,"（ｶﾀｶﾅ）",{"$nulls":5},{"$f":"$I$42","v":""},{"$f":"$J$42","v":""},{"$f":"$K$42","v":""},{"$f":"$L$42","v":""},{"$f":"$M$42","v":""},{"$f":"$N$42","v":""},{"$f":"$O$42","v":""},{"$f":"$P$42","v":""},{"$f":"$Q$42","v":""},{"$f":"$R$42","v":""},{"$f":"$S$42","v":""},{"$f":"$T$42","v":""},{"$f":"$U$42","v":""},{"$f":"$V$42","v":""},{"$f":"$W$42","v":""},{"$nulls":3},"（ｶﾀｶﾅ）",{"$nulls":5},{"$f":"$AG$42","v":""},{"$f":"$AH$42","v":""},{"$f":"$AI$42","v":""},{"$f":"$AJ$42","v":""},{"$f":"$AK$42","v":""},{"$f":"$AL$42","v":""},{"$f":"$AM$42","v":""},{"$f":"$AN$42","v":""},{"$f":"$AO$42","v":""},{"$f":"$AP$42","v":""},{"$f":"$AQ$42","v":""},{"$f":"$AR$42","v":""},{"$f":"$AS$42","v":""},{"$f":"$AT$42","v":""},{"$f":"$AU$42","v":""}]
[]
[null,null,"取引現場名",{"$nulls":5},{"$f":"$I$44","v":""},{"$nulls":17},"請求書届出印",{"$nulls":7},"領収書届出印"]
[]
[null,null,"取引支店名",{"$nulls":5},{"$f":"$I$46","v":""}]
[]
[null,null,"・","本口座振込依頼書により、上記指定銀行預金口座へ振込み下されば、"]
[{"$nulls":3},"振込みと同時に当方にて代金の受領と認め別に領収証は発行いたしません。",{"$nulls":39},"記入担当者"]
[null,null,"・","尚、送金手数料は当方負担とし、御支払代金より差引きください。",{"$nulls":39},{"$f":"AR50","v":""}]
[null,null,"・","記載事項に変更があった場合は遅滞なく本票を差換えます。"]
[null,null,"・","上記記載事項についてすべて了承致します。"]
[]
[]
[null,"（栗本建設工業記入欄及びお願い）"]
[null,null,"①",{"$nulls":10},"②"]
[null,null,"業者コード",{"$nulls":5},"電話下４桁",{"$nulls":4},"基本契約番号",{"$nulls":12},"銀行コード",{"$nulls":3},"支店コード",{"$nulls":9},"検印",{"$nulls":3},"担当"]
[]
[]
[null,null,"安全協力会費",{"$nulls":6},"栗建会",{"$nulls":3},"支払率",null,null,"手形率",{"$nulls":3},"サイト"]
[]
[{"$nulls":6},"/10000",{"$nulls":6},"％",null,null,"％",{"$nulls":3},"日"]
[]
[{"$nulls":46},"3","/",3]
[]
[{"$nulls":38},{"$f":"$AM$3","v":"2022-03-25"}]
[{"$nulls":14},"口　座　振　込　依　頼　書"]
[]
[{"$nulls":14},"変　更　届　出　書"]
[]
[null,null,"栗本建設工業株式会社　御中"]
[]
[{"$nulls":16},"業者コード",{"$nulls":7},{"$f":"$Y$10","v":0}]
[]
[{"$nulls":16},"会　社　名",{"$nulls":7},{"$f":"$Y$12","v":""}]
[]
[]
[null,"現　在　登　録",{"$nulls":22},"変　　　更　　　後"]
[]
[null,null,"フリガナ",{"$nulls":5},{"$f":"$I$17","v":""},{"$nulls":17},"フリガナ",{"$nulls":5},{"$f":"$AG$17","v":""}]
[null,null,"会 社 名",{"$nulls":5},{"$f":"$I$18","v":""},{"$nulls":17},"会 社 名",{"$nulls":5},{"$f":"$AG$18","v":""}]
[]
[null,null,"フリガナ",{"$nulls":5},{"$f":"$I$20","v":""},{"$nulls":17},"フリガナ",{"$nulls":5},{"$f":"$AG$20","v":""}]
[null,null,"住    所",{"$nulls":5},"〒",{"$f":"$J$21","v":""},{"$nulls":16},"住    所",{"$nulls":5},"〒",{"$f":"$AH$21","v":""}]
[{"$nulls":8},{"$f":"$I$22","v":""},{"$nulls":23},{"$f":"$AG$22","v":""}]
[]
[null,null,"フリガナ",{"$nulls":5},{"$f":"$I$24","v":""},{"$nulls":17},"フリガナ",{"$nulls":5},{"$f":"$AG$24","v":""}]
[null,null,"代 表 者",{"$nulls":5},{"$f":"$I$25","v":""},{"$nulls":17},"代 表 者",{"$nulls":5},{"$f":"$AG$25","v":""}]
[]
[null,null,"電話番号",{"$nulls":5},{"$f":"$I$27","v":""},{"$nulls":17},"電話番号",{"$nulls":5},{"$f":"$AG$27","v":""}]
[]
[null,null,"FAX番号",{"$nulls":5},{"$f":"$I$29","v":""},{"$nulls":17},"FAX番号",{"$nulls":5},{"$f":"$AG$29","v":""}]
[]
[null,null,"建設業許可番号",{"$nulls":9},"資本金",null,null,{"$f":"$P$31","v":""},{"$nulls":5},"円",{"$nulls":4},"建設業許可番号",{"$nulls":9},"資本金",null,null,{"$f":"$AN$31","v":""},{"$nulls":5},"円"]
[null,null,{"$f":"$C$32","v":""},{"$nulls":23},{"$f":"$AA$32","v":""}]
[null,null,"建設業許可年月日",{"$nulls":8},{"$f":"$L$33","v":""},{"$nulls":14},"建設業許可年月日",{"$nulls":8},{"$f":"$AJ$33","v":""}]
[]
[null,null,"業種コード",{"$nulls":9},"業種名",null,null,{"$f":"$P$35","v":""},{"$nulls":10},"業種コード",{"$nulls":9},"業種名",null,null,{"$f":"AN35","v":""}]
[]
[null,null,"振込銀行",{"$nulls":5},{"$f":"$I$37","v":""},{"$nulls":17},"振込銀行",{"$nulls":5},{"$f":"$AG$37","v":""}]
[]
[null,null,"預金種別",{"$nulls":5},{"$f":"$I$39","v":""},{"$nulls":3},"口座番号",{"$nulls":3},{"$f":"$Q$39","v":""},{"$nulls":9},"預金種別",{"$nulls":5},{"$f":"$AG$39","v":""},{"$nulls":3},"口座番号",{"$nulls":3},{"$f":"$AO$39","v":""}]
[]
[null,null,"口座名義",{"$nulls":5},{"$f":"$I$41","v":""},{"$f":"$J$41","v":""},{"$f":"$K$41","v":""},{"$f":"$L$41","v":""},{"$f":"$M$41","v":""},{"$f":"$N$41","v":""},{"$f":"$O$41","v":""},{"$f":"$P$41","v":""},{"$f":"$Q$41","v":""},{"$f":"$R$41","v":""},{"$f":"$S$41","v":""},{"$f":"$T$41","v":""},{"$f":"$U$41","v":""},{"$f":"$V$41","v":""},{"$f":"$W$41","v":""},{"$nulls":3},"口座名義",{"$nulls":5},{"$f":"$AG$41","v":""},{"$f":"$AH$41","v":""},{"$f":"$AI$41","v":""},{"$f":"$AJ$41","v":""},{"$f":"$AK$41","v":""},{"$f":"$AL$41","v":""},{"$f":"$AM$41","v":""},{"$f":"$AN$41","v":""},{"$f":"$AO$41","v":""},{"$f":"$AP$41","v":""},{"$f":"$AQ$41","v":""},{"$f":"$AR$41","v":""},{"$f":"$AS$41","v":""},{"$f":"$AT$41","v":""},{"$f":"$AU$41","v":""}]
[null,null,"（ｶﾀｶﾅ）",{"$nulls":5},{"$f":"$I$42","v":""},{"$f":"$J$42","v":""},{"$f":"$K$42","v":""},{"$f":"$L$42","v":""},{"$f":"$M$42","v":""},{"$f":"$N$42","v":""},{"$f":"$O$42","v":""},{"$f":"$P$42","v":""},{"$f":"$Q$42","v":""},{"$f":"$R$42","v":""},{"$f":"$S$42","v":""},{"$f":"$T$42","v":""},{"$f":"$U$42","v":""},{"$f":"$V$42","v":""},{"$f":"$W$42","v":""},{"$nulls":3},"（ｶﾀｶﾅ）",{"$nulls":5},{"$f":"$AG$42","v":""},{"$f":"$AH$42","v":""},{"$f":"$AI$42","v":""},{"$f":"$AJ$42","v":""},{"$f":"$AK$42","v":""},{"$f":"$AL$42","v":""},{"$f":"$AM$42","v":""},{"$f":"$AN$42","v":""},{"$f":"$AO$42","v":""},{"$f":"$AP$42","v":""},{"$f":"$AQ$42","v":""},{"$f":"$AR$42","v":""},{"$f":"$AS$42","v":""},{"$f":"$AT$42","v":""},{"$f":"$AU$42","v":""}]
[]
[null,null,"取引現場名",{"$nulls":5},{"$f":"$I$44","v":""},{"$nulls":17},"請求書届出印",{"$nulls":7},"領収書届出印"]
[]
[null,null,"取引支店名",{"$nulls":5},{"$f":"$I$46","v":""}]
[]
[null,null,"・","本口座振込依頼書により、上記指定銀行預金口座へ振込み下されば、"]
[{"$nulls":3},"振込みと同時に当方にて代金の受領と認め別に領収証は発行いたしません。",{"$nulls":39},"記入担当者"]
[null,null,"・","尚、送金手数料は当方負担とし、御支払代金より差引きください。",{"$nulls":39},{"$f":"AR113","v":""}]
[null,null,"・","記載事項に変更があった場合は遅滞なく本票を差換えます。"]
[null,null,"・","上記記載事項についてすべて了承致します。"]
[]
[]
[null,"（栗本建設工業記入欄及びお願い）"]
[null,null,"①",{"$nulls":10},"②"]
[null,null,"業者コード",{"$nulls":5},"電話下４桁",{"$nulls":4},"基本契約番号",{"$nulls":12},"銀行コード",{"$nulls":3},"支店コード",{"$nulls":9},"検印",{"$nulls":3},"担当"]
[]
[]
[null,null,"安全協力会費",{"$nulls":6},"栗建会",{"$nulls":3},"支払率",null,null,"手形率",{"$nulls":3},"サイト"]
[]
[{"$nulls":6},"/10000",{"$nulls":6},"％",null,null,"％",{"$nulls":3},"日"]

{"sheet":"変更届出書","index":2,"n_rows":188,"n_cols":49,"rows_kept":188,"merged":[[2,38,2,46],[3,12,3,13],[5,12,5,13],[7,2,7,17],[9,16,9,23],[9,24,9,34],[11,16,11,23],[11,24,11,47],[14,1,14,23],[14,24,14,47],[16,2,16,7],[16,8,16,22],[16,26,16,31],[16,32,16,46],[17,2,17,7],[17,8,17,22],[17,26,17,31],[17,32,17,46],[19,2,19,7],[19,8,19,22],[19,26,19,31],[19,32,19,46],[20,2,21,7],[20,9,20,22],[20,26,21,31],[20,33,20,46],[21,8,21,22],[21,32,21,46],[23,2,23,7],[23,8,23,22],[23,26,23,31],[23,32,23,46],[24,2,24,7],[24,8,24,22],[24,26,24,31],[24,32,24,46],[26,2,26,7],[26,8,26,22],[26,26,26,31],[26,32,26,46],[28,2,28,7],[28,8,28,22],[28,26,28,31],[28,32,28,46],[30,2,30,7],[30,12,30,14],[30,15,30,20],[30,21,30,22],[30,26,30,31],[30,36,30,38],[30,39,30,44],[30,45,30,46],[31,2,31,22],[31,26,31,46],[32,2,32,10],[32,11,32,22],[32,26,32,34],[32,35,32,46],[34,2,34,7],[34,12,34,14],[34,15,34,22],[34,26,34,31],[34,36,34,38],[34,39,34,46],[36,2,36,7],[36,8,36,22],[36,26,36,31],[36,32,36,46],[38,2,38,7],[38,8,38,11],[38,12,38,15],[38,16,38,22],[38,26,38,31],[38,32,38,35],[38,36,38,39],[38,40,38,46],[40,2,40,7],[40,26,40,31],[41,2,41,7],[41,26,41,31],[43,2,43,7],[43,8,43,22],[43,26,43,33],[43,34,43,41],[43,42,47,47],[44,26,51,33],[44,34,51,41],[45,2,45,7],[45,8,45,22],[48,42,51,42],[48,43,48,46],[48,47,51,47],[49,43,51,46],[56,2,56,7],[56,8,56,11],[56,13,56,21],[56,40,56,43],[56,44,56,47],[57,40,59,43],[57,44,59,47],[65,38,65,46],[66,12,66,13],[68,12,68,13],[70,2,70,17],[72,16,72,23],[72,24,72,34],[74,16,74,23],[74,24,74,34],[77,1,77,23],[77,24,77,47],[79,2,79,7],[79,8,79,22],[79,26,79,31],[79,32,79,46],[80,2,80,7],[80,8,80,22],[80,26,80,31],[80,32,80,46],[82,2,82,7],[82,8,82,22],[82,26,82,31],[82,32,82,46],[83,2,84,7],[83,9,83,22],[83,26,84,31],[83,33,83,46],[84,8,84,22],[84,32,84,46],[86,2,86,7],[86,8,86,22],[86,26,86,31],[86,32,86,46],[87,2,87,7],[87,8,87,22],[87,26,87,31],[87,32,87,46],[89,2,89,7],[89,8,89,22],[89,26,89,31],[89,32,89,46],[91,2,91,7],[91,8,91,22],[91,26,91,31],[91,32,91,46],[93,2,93,7],[93,12,93,14],[93,15,93,20],[93,21,93,22],[93,26,93,31],[93,36,93,38],[93,39,93,44],[93,45,93,46],[94,2,94,22],[94,26,94,46],[95,2,95,10],[95,11,95,22],[95,26,95,34],[95,35,95,46],[97,2,97,7],[97,12,97,14],[97,15,97,22],[97,26,97,31],[97,36,97,38],[97,39,97,46],[99,2,99,7],[99,8,99,22],[99,26,99,31],[99,32,99,46],[101,2,101,7],[101,8,101,11],[101,12,101,15],[101,16,101,22],[101,26,101,31],[101,32,101,35],[101,36,101,39],[101,40,101,46],[103,2,103,7],[103,26,103,31],[104,2,104,7],[104,26,104,31],[106,2,106,7],[106,8,106,22],[106,26,106,33],[106,34,106,41],[106,42,110,47],[107,26,114,33],[107,34,114,41],[108,2,108,7],[108,8,108,22],[111,42,114,42],[111,43,111,46],[111,47,114,47],[112,43,114,46],[119,2,119,7],[119,8,119,11],[119,13,119,21],[119,26,119,29],[119,30,119,32],[119,40,119,43],[119,44,119,47],[122,2,122,8],[122,9,122,12],[122,13,122,15],[122,16,122,19],[122,20,122,22],[123,2,123,8],[123,13,123,15],[123,16,123,19],[123,20,123,22],[124,2,124,5],[124,6,124,8],[124,13,124,15],[124,16,124,19],[124,20,124,22],[128,38,128,46],[129,12,129,13],[131,12,131,13],[133,2,133,17],[135,16,135,23],[135,24,135,34],[137,16,137,23],[137,24,137,34],[140,1,140,23],[140,24,140,47],[142,2,142,7],[142,8,142,22],[142,26,142,31],[142,32,142,46],[143,2,143,7],[143,8,143,22],[143,26,143,31],[143,32,143,46],[145,2,145,7],[145,8,145,22],[145,26,145,31],[145,32,145,46],[146,2,147,7],[146,9,146,22],[146,26,147,31],[146,33,146,46],[147,8,147,22],[147,32,147,46],[149,2,149,7],[149,8,149,22],[149,26,149,31],[149,32,149,46],[150,2,150,7],[150,8,150,22],[150,26,150,31],[150,32,150,46],[152,2,152,7],[152,8,152,22],[152,26,152,31],[152,32,152,46],[154,2,154,7],[154,8,154,22],[154,26,154,31],[154,32,154,46],[156,2,156,7],[156,12,156,14],[156,15,156,20],[156,21,156,22],[156,26,156,31],[156,36,156,38],[156,39,156,44],[156,45,156,46],[157,2,157,22],[157,26,157,46],[158,2,158,10],[158,11,158,22],[158,26,158,34],[158,35,158,46],[160,2,160,7],[160,12,160,14],[160,15,160,22],[160,26,160,31],[160,36,160,38],[160,39,160,46],[162,2,162,7],[162,8,162,22],[162,26,162,31],[162,32,162,46],[164,2,164,7],[164,8,164,11],[164,12,164,15],[164,16,164,22],[164,26,164,31],[164,32,164,35],[164,36,164,39],[164,40,164,46],[166,2,166,7],[166,26,166,31],[167,2,167,7],[167,26,167,31],[169,2,169,7],[169,8,169,22],[169,26,169,33],[169,34,169,41],[169,42,173,47],[170,26,177,33],[170,34,177,41],[171,2,171,7],[171,8,171,22],[174,42,177,42],[174,43,174,46],[174,47,177,47],[175,43,177,46],[182,2,182,7],[182,8,182,11],[182,13,182,21],[182,26,182,29],[182,30,182,32],[182,40,182,43],[182,44,182,47],[185,2,185,8],[185,9,185,12],[185,13,185,15],[185,16,185,19],[185,20,185,22],[186,2,186,8],[186,13,186,15],[186,16,186,19],[186,20,186,22],[187,2,187,5],[187,6,187,8],[187,13,187,15],[187,16,187,19],[187,20,187,22]]}
[{"$nulls":46},"1","/",3]
[]
[{"$nulls":38},{"$f":"TODAY()","v":"2022-03-25"}]
[{"$nulls":14},"口　座　振　込　依　頼　書"]
[]
[{"$nulls":14},"変　更　届　出　書"]
[]
[null,null,"栗本建設工業株式会社　御中"]
[]
[{"$nulls":16},"業者コード",{"$nulls":7},{"$f":"IF(記入用紙!I12=\"\",\"\",記入用紙!I12)","v":""}]
[]
[{"$nulls":16},"会　社　名",{"$nulls":7},{"$f":"IF(記入用紙!I18=\"\",IF(記入用紙!E18=\"\",\"\",記入用紙!I18),記入用紙!I18)","v":""}]
[]
[]
[null,"現　在　登　録",{"$nulls":22},"変　　　更　　　後"]
[]
[null,null,"フリガナ",{"$nulls":5},{"$f":"IF(記入用紙!E17=\"\",\"\",記入用紙!E17)","v":""},{"$nulls":17},"フリガナ",{"$nulls":5},{"$f":"IF(記入用紙!I17=\"\",\"\",記入用紙!I17)","v":""}]
[null,null,"会 社 名",{"$nulls":5},{"$f":"IF(記入用紙!E18=\"\",\"\",記入用紙!E18)","v":""},{"$nulls":17},"会 社 名",{"$nulls":5},{"$f":"IF(記入用紙!I18=\"\",\"\",記入用紙!I18)","v":""}]
[]
[null,null,"フリガナ",{"$nulls":5},{"$f":"IF(記入用紙!E20=\"\",\"\",記入用紙!E20)","v":""},{"$nulls":17},"フリガナ",{"$nulls":5},{"$f":"IF(記入用紙!I20=\"\",\"\",記入用紙!I20)","v":""}]
[null,null,"住    所",{"$nulls":5},"〒",{"$f":"IF(記入用紙!E19=\"\",\"\",記入用紙!E19)","v":""},{"$nulls":16},"住    所",{"$nulls":5},"〒",{"$f":"IF(記入用紙!I19=\"\",\"\",記入用紙!I19)","v":""}]
[{"$nulls":8},{"$f":"IF(記入用紙!E21=\"\",\"\",記入用紙!E21)","v":""},{"$nulls":23},{"$f":"IF(記入用紙!I21=\"\",\"\",記入用紙!I21)","v":""}]
[]
[null,null,"フリガナ",{"$nulls":5},{"$f":"IF(記入用紙!E22=\"\",\"\",記入用紙!E22)","v":""},{"$nulls":17},"フリガナ",{"$nulls":5},{"$f":"IF(記入用紙!I22=\"\",\"\",記入用紙!I22)","v":""}]
[null,null,"代 表 者",{"$nulls":5},{"$f":"IF(記入用紙!E23=\"\",\"\",記入用紙!E23)","v":""},{"$nulls":17},"代 表 者",{"$nulls":5},{"$f":"IF(記入用紙!I23=\"\",\"\",記入用紙!I23)","v":""}]
[]
[null,null,"電話番号",{"$nulls":5},{"$f":"IF(記入用紙!E24=\"\",\"\",記入用紙!E24)","v":""},{"$nulls":17},"電話番号",{"$nulls":5},{"$f":"IF(記入用紙!I24=\"\",\"\",記入用紙!I24)","v":""}]
[]
[null,null,"FAX番号",{"$nulls":5},{"$f":"IF(記入用紙!E25=\"\",\"\",記入用紙!E25)","v":""},{"$nulls":17},"FAX番号",{"$nulls":5},{"$f":"IF(記入用紙!I25=\"\",\"\",記入用紙!I25)","v":""}]
[]
[null,null,"建設業許可番号",{"$nulls":9},"資本金",null,null,{"$f":"IF(記入用紙!E26=\"\",\"\",記入用紙!E26)","v":""},{"$nulls":5},"円",{"$nulls":4},"建設業許可番号",{"$nulls":9},"資本金",null,null,{"$f":"IF(記入用紙!I26=\"\",\"\",記入用紙!I26)","v":""},{"$nulls":5},"円"]
[null,null,{"$f":"IF(記入用紙!E27=\"\",\"\",記入用紙!E27)","v":""},{"$nulls":23},{"$f":"IF(記入用紙!I27=\"\",\"\",記入用紙!I27)","v":""}]
[null,null,"建設業許可年月日",{"$nulls":8},{"$f":"IF(記入用紙!E28=\"\",\"\",記入用紙!E28)","v":""},{"$nulls":14},"建設業許可年月日",{"$nulls":8},{"$f":"IF(記入用紙!I28=\"\",\"\",記入用紙!I28)","v":""}]
[]
[null,null,"業種コード",{"$nulls":9},"業種名",null,null,{"$f":"IF(記入用紙!E29=\"\",\"\",記入用紙!E29)","v":""},{"$nulls":10},"業種コード",{"$nulls":9},"業種名",null,null,{"$f":"IF(記入用紙!I29=\"\",\"\",記入用紙!I29)","v":""}]
[]
[null,null,"振込銀行",{"$nulls":5},{"$f":"IF(記入用紙!E30=\"\",\"\",記入用紙!E30)","v":""},{"$nulls":17},"振込銀行",{"$nulls":5},{"$f":"IF(記入用紙!I30=\"\",\"\",記入用紙!I30)","v":""}]
[]
[null,null,"預金種別",{"$nulls":5},{"$f":"IF(記入用紙!E31=\"\",\"\",記入用紙!E31)","v":""},{"$nulls":3},"口座番号",{"$nulls":3},{"$f":"IF(記入用紙!E32=\"\",\"\",記入用紙!E32)","v":""},{"$nulls":9},"預金種別",{"$nulls":5},{"$f":"IF(記入用紙!I31=\"\",\"\",記入用紙!I31)","v":""},{"$nulls":3},"口座番号",{"$nulls":3},{"$f":"IF(記入用紙!I32=\"\",\"\",記入用紙!I32)","v":""}]
[]
[null,null,"口座名義",{"$nulls":5},{"$f":"MID(記入用紙!E33,1,1)","v":""},{"$f":"MID(記入用紙!E33,2,1)","v":""},{"$f":"MID(記入用紙!E33,3,1)","v":""},{"$f":"MID(記入用紙!E33,4,1)","v":""},{"$f":"MID(記入用紙!E33,5,1)","v":""},{"$f":"MID(記入用紙!E33,6,1)","v":""},{"$f":"MID(記入用紙!E33,7,1)","v":""},{"$f":"MID(記入用紙!E33,8,1)","v":""},{"$f":"MID(記入用紙!E33,9,1)","v":""},{"$f":"MID(記入用紙!E33,10,1)","v":""},{"$f":"MID(記入用紙!E33,11,1)","v":""},{"$f":"MID(記入用紙!E33,12,1)","v":""},{"$f":"MID(記入用紙!E33,13,1)","v":""},{"$f":"MID(記入用紙!E33,14,1)","v":""},{"$f":"MID(記入用紙!E33,15,1)","v":""},{"$nulls":3},"口座名義",{"$nulls":5},{"$f":"MID(記入用紙!I33,1,1)","v":""},{"$f":"MID(記入用紙!I33,2,1)","v":""},{"$f":"MID(記入用紙!I33,3,1)","v":""},{"$f":"MID(記入用紙!I33,4,1)","v":""},{"$f":"MID(記入用紙!I33,5,1)","v":""},{"$f":"MID(記入用紙!I33,6,1)","v":""},{"$f":"MID(記入用紙!I33,7,1)","v":""},{"$f":"MID(記入用紙!I33,8,1)","v":""},{"$f":"MID(記入用紙!I33,9,1)","v":""},{"$f":"MID(記入用紙!I33,10,1)","v":""},{"$f":"MID(記入用紙!I33,11,1)","v":""},{"$f":"MID(記入用紙!I33,12,1)","v":""},{"$f":"MID(記入用紙!I33,13,1)","v":""},{"$f":"MID(記入用紙!I33,14,1)","v":""},{"$f":"MID(記入用紙!I33,15,1)","v":""}]
[null,null,"（ｶﾀｶﾅ）",{"$nulls":5},{"$f":"MID(記入用紙!E33,16,1)","v":""},{"$f":"MID(記入用紙!E33,17,1)","v":""},{"$f":"MID(記入用紙!E33,18,1)","v":""},{"$f":"MID(記入用紙!E33,19,1)","v":""},{"$f":"MID(記入用紙!E33,20,1)","v":""},{"$f":"MID(記入用紙!E33,21,1)","v":""},{"$f":"MID(記入用紙!E33,22,1)","v":""},{"$f":"MID(記入用紙!E33,23,1)","v":""},{"$f":"MID(記入用紙!E33,24,1)","v":""},{"$f":"MID(記入用紙!E33,25,1)","v":""},{"$f":"MID(記入用紙!E33,26,1)","v":""},{"$f":"MID(記入用紙!E33,27,1)","v":""},{"$f":"MID(記入用紙!E33,28,1)","v":""},{"$f":"MID(記入用紙!E33,29,1)","v":""},{"$f":"MID(記入用紙!E33,30,1)","v":""},{"$nulls":3},"（ｶﾀｶﾅ）",{"$nulls":5},{"$f":"MID(記入用紙!I33,16,1)","v":""},{"$f":"MID(記入用紙!I33,17,1)","v":""},{"$f":"MID(記入用紙!I33,18,1)","v":""},{"$f":"MID(記入用紙!I33,19,1)","v":""},{"$f":"MID(記入用紙!I33,20,1)","v":""},{"$f":"MID(記入用紙!I33,21,1)","v":""},{"$f":"MID(記入用紙!I33,22,1)","v":""},{"$f":"MID(記入用紙!I33,23,1)","v":""},{"$f":"MID(記入用紙!I33,24,1)","v":""},{"$f":"MID(記入用紙!I33,25,1)","v":""},{"$f":"MID(記入用紙!I33,26,1)","v":""},{"$f":"MID(記入用紙!I33,27,1)","v":""},{"$f":"MID(記入用紙!I33,28,1)","v":""},{"$f":"MID(記入用紙!I33,29,1)","v":""},{"$f":"MID(記入用紙!I33,30,1)","v":""}]
[]
[null,null,"取引現場名",{"$nulls":5},{"$f":"IF(記入用紙!E34=\"\",\"\",記入用紙!E34)","v":""},{"$nulls":17},"請求書届出印",{"$nulls":7},"領収書届出印"]
[]
[null,null,"取引支店名",{"$nulls":5},{"$f":"IF(記入用紙!E35=\"\",\"\",記入用紙!E35)","v":""}]
[]
[null,null,"・","本口座振込依頼書により、上記指定銀行預金口座へ振込み下されば、"]
[{"$nulls":3},"振込みと同時に当方にて代金の受領と認め別に領収証は発行いたしません。",{"$nulls":39},"記入担当者"]
[null,null,"・","尚、送金手数料は当方負担とし、御支払代金より差引きください。",{"$nulls":39},{"$f":"IF(記入用紙!I36=\"\",IF(記入用紙!E36=\"\",\"\",記入用紙!E36),記入用紙!I36)","v":""}]
[null,null,"・","記載事項に変更があった場合は遅滞なく本票を差換えます。"]
[null,null,"・","上記記載事項についてすべて了承致します。"]
[]
[]
[null,"（栗本建設工業記入欄及びお願い）"]
[null,null,"①",{"$nulls":10},"②"]
[null,null,"業者コード",{"$nulls":5},"電話下４桁",{"$nulls":4},"基本契約番号",{"$nulls":26},"検印",{"$nulls":3},"担当"]
[]
[]
[null,null,"①業者コード、電話下４桁は請求書記入時に必要です。"]
[null,null,"②弊社と請負工事をされる場合、工事下請基本契約を締結して頂きます。"]
[]
[]
[{"$nulls":46},"2","/",3]
[]
[{"$nulls":38},{"$f":"$AM$3","v":"2022-03-25"}]
[{"$nulls":14},"口　座　振　込　依　頼　書"]
[]
[{"$nulls":14},"変　更　届　出　書"]
[]
[null,null,"栗本建設工業株式会社　御中"]
[]
[{"$nulls":16},"業者コード",{"$nulls":7},{"$f":"$Y$10","v":""}]
[]
[{"$nulls":16},"会　社　名",{"$nulls":7},{"$f":"$Y$12","v":""}]
[]
[]
[null,"現　在　登　録",{"$nulls":22},"変　　　更　　　後"]
[]
[null,null,"フリガナ",{"$nulls":5},{"$f":"$I$17","v":""},{"$nulls":17},"フリガナ",{"$nulls":5},{"$f":"$AG$17","v":""}]
[null,null,"会 社 名",{"$nulls":5},{"$f":"$I$18","v":""},{"$nulls":17},"会 社 名",{"$nulls":5},{"$f":"$AG$18","v":""}]
[]
[null,null,"フリガナ",{"$nulls":5},{"$f":"$I$20","v":""},{"$nulls":17},"フリガナ",{"$nulls":5},{"$f":"$AG$20","v":""}]
[null,null,"住    所",{"$nulls":5},"〒",{"$f":"$J$21","v":""},{"$nulls":16},"住    所",{"$nulls":5},"〒",{"$f":"$AH$21","v":""}]
[{"$nulls":8},{"$f":"$I$22","v":""},{"$nulls":23},{"$f":"$AG$22","v":""}]
[]
[null,null,"フリガナ",{"$nulls":5},{"$f":"$I$24","v":""},{"$nulls":17},"フリガナ",{"$nulls":5},{"$f":"$AG$24","v":""}]
[null,null,"代 表 者",{"$nulls":5},{"$f":"$I$25","v":""},{"$nulls":17},"代 表 者",{"$nulls":5},{"$f":"$AG$25","v":""}]
[]
[null,null,"電話番号",{"$nulls":5},{"$f":"$I$27","v":""},{"$nulls":17},"電話番号",{"$nulls":5},{"$f":"$AG$27","v":""}]
[]
[null,null,"FAX番号",{"$nulls":5},{"$f":"$I$29","v":""},{"$nulls":17},"FAX番号",{"$nulls":5},{"$f":"$AG$29","v":""}]
[]
[null,null,"建設業許可番号",{"$nulls":9},"資本金",null,null,{"$f":"$P$31","v":""},{"$nulls":5},"円",{"$nulls":4},"建設業許可番号",{"$nulls":9},"資本金",null,null,{"$f":"$AN$31","v":""},{"$nulls":5},"円"]
[null,null,{"$f":"$C$32","v":""},{"$nulls":23},{"$f":"$AA$32","v":""}]
[null,null,"建設業許可年月日",{"$nulls":8},{"$f":"$L$33","v":""},{"$nulls":14},"建設業許可年月日",{"$nulls":8},{"$f":"$AJ$33","v":""}]
[]
[null,null,"業種コード",{"$nulls":9},"業種名",null,null,{"$f":"$P$35","v":""},{"$nulls":10},"業種コード",{"$nulls":9},"業種名",null,null,{"$f":"$AN$35","v":""}]
[]
[null,null,"振込銀行",{"$nulls":5},{"$f":"$I$37","v":""},{"$nulls":17},"振込銀行",{"$nulls":5},{"$f":"$AG$37","v":""}]
[]
[null,null,"預金種別",{"$nulls":5},{"$f":"$I$39","v":""},{"$nulls":3},"口座番号",{"$nulls":3},{"$f":"$Q$39","v":""},{"$nulls":9},"預金種別",{"$nulls":5},{"$f":"$AG$39","v":""},{"$nulls":3},"口座番号",{"$nulls":3},{"$f":"$AO$39","v":""}]
[]
[null,null,"口座名義",{"$nulls":5},{"$f":"$I$41","v":""},{"$f":"$J$41","v":""},{"$f":"$K$41","v":""},{"$f":"$L$41","v":""},{"$f":"$M$41","v":""},{"$f":"$N$41","v":""},{"$f":"$O$41","v":""},{"$f":"$P$41","v":""},{"$f":"$Q$41","v":""},{"$f":"$R$41","v":""},{"$f":"$S$41","v":""},{"$f":"$T$41","v":""},{"$f":"$U$41","v":""},{"$f":"$V$41","v":""},{"$f":"$W$41","v":""},{"$nulls":3},"口座名義",{"$nulls":5},{"$f":"$AG$41","v":""},{"$f":"$AH$41","v":""},{"$f":"$AI$41","v":""},{"$f":"$AJ$41","v":""},{"$f":"$AK$41","v":""},{"$f":"$AL$41","v":""},{"$f":"$AM$41","v":""},{"$f":"$AN$41","v":""},{"$f":"$AO$41","v":""},{"$f":"$AP$41","v":""},{"$f":"$AQ$41","v":""},{"$f":"$AR$41","v":""},{"$f":"$AS$41","v":""},{"$f":"$AT$41","v":""},{"$f":"$AU$41","v":""}]
[null,null,"（ｶﾀｶﾅ）",{"$nulls":5},{"$f":"$I$42","v":""},{"$f":"$J$42","v":""},{"$f":"$K$42","v":""},{"$f":"$L$42","v":""},{"$f":"$M$42","v":""},{"$f":"$N$42","v":""},{"$f":"$O$42","v":""},{"$f":"$P$42","v":""},{"$f":"$Q$42","v":""},{"$f":"$R$42","v":""},{"$f":"$S$42","v":""},{"$f":"$T$42","v":""},{"$f":"$U$42","v":""},{"$f":"$V$42","v":""},{"$f":"$W$42","v":""},{"$nulls":3},"（ｶﾀｶﾅ）",{"$nulls":5},{"$f":"$AG$42","v":""},{"$f":"$AH$42","v":""},{"$f":"$AI$42","v":""},{"$f":"$AJ$42","v":""},{"$f":"$AK$42","v":""},{"$f":"$AL$42","v":""},{"$f":"$AM$42","v":""},{"$f":"$AN$42","v":""},{"$f":"$AO$42","v":""},{"$f":"$AP$42","v":""},{"$f":"$AQ$42","v":""},{"$f":"$AR$42","v":""},{"$f":"$AS$42","v":""},{"$f":"$AT$42","v":""},{"$f":"$AU$42","v":""}]
[]
[null,null,"取引現場名",{"$nulls":5},{"$f":"$I$44","v":""},{"$nulls":17},"請求書届出印",{"$nulls":7},"領収書届出印"]
[]
[null,null,"取引支店名",{"$nulls":5},{"$f":"$I$46","v":""}]
[]
[null,null,"・","本口座振込依頼書により、上記指定銀行預金口座へ振込み下されば、"]
[{"$nulls":3},"振込みと同時に当方にて代金の受領と認め別に領収証は発行いたしません。",{"$nulls":39},"記入担当者"]
[null,null,"・","尚、送金手数料は当方負担とし、御支払代金より差引きください。",{"$nulls":39},{"$f":"AR50","v":""}]
[null,null,"・","記載事項に変更があった場合は遅滞なく本票を差換えます。"]
[null,null,"・","上記記載事項についてすべて了承致します。"]
[]
[]
[null,"（栗本建設工業記入欄及びお願い）"]
[null,null,"①",{"$nulls":10},"②"]
[null,null,"業者コード",{"$nulls":5},"電話下４桁",{"$nulls":4},"基本契約番号",{"$nulls":12},"銀行コード",{"$nulls":3},"支店コード",{"$nulls":9},"検印",{"$nulls":3},"担当"]
[]
[]
[null,null,"安全協力会費",{"$nulls":6},"栗建会",{"$nulls":3},"支払率",null,null,"手形率",{"$nulls":3},"サイト"]
[]
[{"$nulls":6},"/10000",{"$nulls":6},"％",null,null,"％",{"$nulls":3},"日"]
[]
[{"$nulls":46},"3","/",3]
[]
[{"$nulls":38},{"$f":"$AM$3","v":"2022-03-25"}]
[{"$nulls":14},"口　座　振　込　依　頼　書"]
[]
[{"$nulls":14},"変　更　届　出　書"]
[]
[null,null,"栗本建設工業株式会社　御中"]
[]
[{"$nulls":16},"業者コード",{"$nulls":7},{"$f":"$Y$10","v":""}]
[]
[{"$nulls":16},"会　社　名",{"$nulls":7},{"$f":"$Y$12","v":""}]
[]
[]
[null,"現　在　登　録",{"$nulls":22},"変　　　更　　　後"]
[]
[null,null,"フリガナ",{"$nulls":5},{"$f":"$I$17","v":""},{"$nulls":17},"フリガナ",{"$nulls":5},{"$f":"$AG$17","v":""}]
[null,null,"会 社 名",{"$nulls":5},{"$f":"$I$18","v":""},{"$nulls":17},"会 社 名",{"$nulls":5},{"$f":"$AG$18","v":""}]
[]
[null,null,"フリガナ",{"$nulls":5},{"$f":"$I$20","v":""},{"$nulls":17},"フリガナ",{"$nulls":5},{"$f":"$AG$20","v":""}]
[null,null,"住    所",{"$nulls":5},"〒",{"$f":"$J$21","v":""},{"$nulls":16},"住    所",{"$nulls":5},"〒",{"$f":"$AH$21","v":""}]
[{"$nulls":8},{"$f":"$I$22","v":""},{"$nulls":23},{"$f":"$AG$22","v":""}]
[]
[null,null,"フリガナ",{"$nulls":5},{"$f":"$I$24","v":""},{"$nulls":17},"フリガナ",{"$nulls":5},{"$f":"$AG$24","v":""}]
[null,null,"代 表 者",{"$nulls":5},{"$f":"$I$25","v":""},{"$nulls":17},"代 表 者",{"$nulls":5},{"$f":"$AG$25","v":""}]
[]
[null,null,"電話番号",{"$nulls":5},{"$f":"$I$27","v":""},{"$nulls":17},"電話番号",{"$nulls":5},{"$f":"$AG$27","v":""}]
[]
[null,null,"FAX番号",{"$nulls":5},{"$f":"$I$29","v":""},{"$nulls":17},"FAX番号",{"$nulls":5},{"$f":"$AG$29","v":""}]
[]
[null,null,"建設業許可番号",{"$nulls":9},"資本金",null,null,{"$f":"$P$31","v":""},{"$nulls":5},"円",{"$nulls":4},"建設業許可番号",{"$nulls":9},"資本金",null,null,{"$f":"$AN$31","v":""},{"$nulls":5},"円"]
[null,null,{"$f":"$C$32","v":""},{"$nulls":23},{"$f":"$AA$32","v":""}]
[null,null,"建設業許可年月日",{"$nulls":8},{"$f":"$L$33","v":""},{"$nulls":14},"建設業許可年月日",{"$nulls":8},{"$f":"$AJ$33","v":""}]
[]
[null,null,"業種コード",{"$nulls":9},"業種名",null,null,{"$f":"$P$35","v":""},{"$nulls":10},"業種コード",{"$nulls":9},"業種名",null,null,{"$f":"$AN$35","v":""}]
[]
[null,null,"振込銀行",{"$nulls":5},{"$f":"$I$37","v":""},{"$nulls":17},"振込銀行",{"$nulls":5},{"$f":"$AG$37","v":""}]
[]
[null,null,"預金種別",{"$nulls":5},{"$f":"$I$39","v":""},{"$nulls":3},"口座番号",{"$nulls":3},{"$f":"$Q$39","v":""},{"$nulls":9},"預金種別",{"$nulls":5},{"$f":"$AG$39","v":""},{"$nulls":3},"口座番号",{"$nulls":3},{"$f":"$AO$39","v":""}]
[]
[null,null,"口座名義",{"$nulls":5},{"$f":"$I$41","v":""},{"$f":"$J$41","v":""},{"$f":"$K$41","v":""},{"$f":"$L$41","v":""},{"$f":"$M$41","v":""},{"$f":"$N$41","v":""},{"$f":"$O$41","v":""},{"$f":"$P$41","v":""},{"$f":"$Q$41","v":""},{"$f":"$R$41","v":""},{"$f":"$S$41","v":""},{"$f":"$T$41","v":""},{"$f":"$U$41","v":""},{"$f":"$V$41","v":""},{"$f":"$W$41","v":""},{"$nulls":3},"口座名義",{"$nulls":5},{"$f":"$AG$41","v":""},{"$f":"$AH$41","v":""},{"$f":"$AI$41","v":""},{"$f":"$AJ$41","v":""},{"$f":"$AK$41","v":""},{"$f":"$AL$41","v":""},{"$f":"$AM$41","v":""},{"$f":"$AN$41","v":""},{"$f":"$AO$41","v":""},{"$f":"$AP$41","v":""},{"$f":"$AQ$41","v":""},{"$f":"$AR$41","v":""},{"$f":"$AS$41","v":""},{"$f":"$AT$41","v":""},{"$f":"$AU$41","v":""}]
[null,null,"（ｶﾀｶﾅ）",{"$nulls":5},{"$f":"$I$42","v":""},{"$f":"$J$42","v":""},{"$f":"$K$42","v":""},{"$f":"$L$42","v":""},{"$f":"$M$42","v":""},{"$f":"$N$42","v":""},{"$f":"$O$42","v":""},{"$f":"$P$42","v":""},{"$f":"$Q$42","v":""},{"$f":"$R$42","v":""},{"$f":"$S$42","v":""},{"$f":"$T$42","v":""},{"$f":"$U$42","v":""},{"$f":"$V$42","v":""},{"$f":"$W$42","v":""},{"$nulls":3},"（ｶﾀｶﾅ）",{"$nulls":5},{"$f":"$AG$42","v":""},{"$f":"$AH$42","v":""},{"$f":"$AI$42","v":""},{"$f":"$AJ$42","v":""},{"$f":"$AK$42","v":""},{"$f":"$AL$42","v":""},{"$f":"$AM$42","v":""},{"$f":"$AN$42","v":""},{"$f":"$AO$42","v":""},{"$f":"$AP$42","v":""},{"$f":"$AQ$42","v":""},{"$f":"$AR$42","v":""},{"$f":"$AS$42","v":""},{"$f":"$AT$42","v":""},{"$f":"$AU$42","v":""}]
[]
[null,null,"取引現場名",{"$nulls":5},{"$f":"$I$44","v":""},{"$nulls":17},"請求書届出印",{"$nulls":7},"領収書届出印"]
[]
[null,null,"取引支店名",{"$nulls":5},{"$f":"$I$46","v":""}]
[]
[null,null,"・","本口座振込依頼書により、上記指定銀行預金口座へ振込み下されば、"]
[{"$nulls":3},"振込みと同時に当方にて代金の受領と認め別に領収証は発行いたしません。",{"$nulls":39},"記入担当者"]
[null,null,"・","尚、送金手数料は当方負担とし、御支払代金より差引きください。",{"$nulls":39},{"$f":"AR113","v":""}]
[null,null,"・","記載事項に変更があった場合は遅滞なく本票を差換えます。"]
[null,null,"・","上記記載事項についてすべて了承致します。"]
[]
[]
[null,"（栗本建設工業記入欄及びお願い）"]
[null,null,"①",{"$nulls":10},"②"]
[null,null,"業者コード",{"$nulls":5},"電話下４桁",{"$nulls":4},"基本契約番号",{"$nulls":12},"銀行コード",{"$nulls":3},"支店コード",{"$nulls":9},"検印",{"$nulls":3},"担当"]
[]
[]
[null,null,"安全協力会費",{"$nulls":6},"栗建会",{"$nulls":3},"支払率",null,null,"手形率",{"$nulls":3},"サイト"]
[]
[{"$nulls":6},"/10000",{"$nulls":6},"％",null,null,"％",{"$nulls":3},"日"]